BEGIN:VCALENDAR
PRODID:NingEventWidget-v1
VERSION:2.0
METHOD:PUBLISH
BEGIN:VTIMEZONE
TZID:Europe/Paris
X-LIC-LOCATION:Europe/Paris
BEGIN:DAYLIGHT
TZOFFSETFROM:+0100
TZOFFSETTO:+0200
TZNAME:CEST
DTSTART:19700329T020000
RRULE:FREQ=YEARLY;BYMONTH=3;BYDAY=-1SU
END:DAYLIGHT
BEGIN:STANDARD
TZOFFSETFROM:+0200
TZOFFSETTO:+0100
TZNAME:CET
DTSTART:19701025T030000
RRULE:FREQ=YEARLY;BYMONTH=10;BYDAY=-1SU
END:STANDARD
END:VTIMEZONE
BEGIN:VEVENT
UID:2485226:Event:991645
DTSTAMP:20260424T065830Z
SUMMARY:et si nous parlions des huiles.
DESCRIPTION:grande polémyque aujoud hui sur le bien-fait des huiles e
 ssentielles.\nje vous propose de se retrouver devant un petit apériti
 f dinatoire,chacun y contribuant et de pouvoir partager nos avis sur c
 e sujet.\nje vous recevrai a mon domicile et par ce fait,je limite don
 c le nombre de participants a 5 personnes.\ncordialement.\npatrice\n\n
 Pour plus d'information, aller sur https://epanews.fr/events/et-si-nou
 s-parlions-des-huiles
DTSTART;TZID=Europe/Paris:20121026T190000
DTEND;TZID=Europe/Paris:20121026T230000
CATEGORIES:30
LOCATION:le grau du roi
WEBSITE:
URL:
CONTACT:0665721688
ORGANIZER;CN=coolpat:https://epanews.fr/profile/coolpat
ATTACH;FMTTYPE="image/jpeg":
ATTENDEE;ROLE=REQ-PARTICIPANT;PARTSTAT=ACCEPTED;RSVP=TRUE;CN=coolpat:h
 ttps://epanews.fr/profile/coolpat
END:VEVENT
END:VCALENDAR
