BEGIN:VCALENDAR
PRODID:NingEventWidget-v1
VERSION:2.0
METHOD:PUBLISH
BEGIN:VTIMEZONE
TZID:Europe/Paris
X-LIC-LOCATION:Europe/Paris
BEGIN:DAYLIGHT
TZOFFSETFROM:+0100
TZOFFSETTO:+0200
TZNAME:CEST
DTSTART:19700329T020000
RRULE:FREQ=YEARLY;BYMONTH=3;BYDAY=-1SU
END:DAYLIGHT
BEGIN:STANDARD
TZOFFSETFROM:+0200
TZOFFSETTO:+0100
TZNAME:CET
DTSTART:19701025T030000
RRULE:FREQ=YEARLY;BYMONTH=10;BYDAY=-1SU
END:STANDARD
END:VTIMEZONE
BEGIN:VEVENT
UID:2485226:Event:563041
DTSTAMP:20260422T205012Z
SUMMARY:Esprit Libre
DESCRIPTION:Vous avez l'impression que vous n' avez le temps de rien..
 . Rejoignez-nous pour partager un moment et réfléchir ensemble sur c
 ette phrase qui se répand de plus en plus. \n Au travers d'un exerci
 ce simple vous prendrez conscience de l'importance de comprendre cette
  idée et de passer à l'action.\nMerci de confirmer votre venue.\n \
 n\nPour plus d'information, aller sur https://epanews.fr/events/esprit
 -libre
DTSTART;TZID=Europe/Paris:20111014T193000
DTEND;TZID=Europe/Paris:20111014T210000
CATEGORIES:75
LOCATION:Paris
WEBSITE:
URL:
CONTACT:0683870870
ORGANIZER;CN="Alya Bey":https://epanews.fr/profile/AlyaBey
ATTACH;FMTTYPE="image/jpeg":
ATTENDEE;ROLE=REQ-PARTICIPANT;PARTSTAT=ACCEPTED;RSVP=TRUE;CN="Alya Bey
 ":https://epanews.fr/profile/AlyaBey
END:VEVENT
END:VCALENDAR
