BEGIN:VCALENDAR
PRODID:NingEventWidget-v1
VERSION:2.0
METHOD:PUBLISH
BEGIN:VTIMEZONE
TZID:Europe/Paris
X-LIC-LOCATION:Europe/Paris
BEGIN:DAYLIGHT
TZOFFSETFROM:+0100
TZOFFSETTO:+0200
TZNAME:CEST
DTSTART:19700329T020000
RRULE:FREQ=YEARLY;BYMONTH=3;BYDAY=-1SU
END:DAYLIGHT
BEGIN:STANDARD
TZOFFSETFROM:+0200
TZOFFSETTO:+0100
TZNAME:CET
DTSTART:19701025T030000
RRULE:FREQ=YEARLY;BYMONTH=10;BYDAY=-1SU
END:STANDARD
END:VTIMEZONE
BEGIN:VEVENT
UID:2485226:Event:2234303
DTSTAMP:20260423T092807Z
SUMMARY:Espace VIP Déclic  \"Gérer son temps facilement\"
DESCRIPTION: Les clés pour gérer son temps facilement \n\nVous vous
  reconnaissez dans au moins une des phrases suivantes :\nJe n’ai ja
 mais le temps de faire ce qui me plait… J’ai le sentiment d’êtr
 e en retard pour tout, tout le temps\nAu travail, souvent, je n’ai p
 as le temps de terminer mon travail dans les délais impartis….\nJe 
 me laisse grignoté(e) par le temps passé sur Facebook, les réseaux 
 sociaux, Internet …\nJ’aimerais pouvoir trouver du temps pour moi,
  mais entre le conjoint, les enfants, le travail ….\nJe ne vois pas 
 les journées passer et pourtant j’ai la sensation de n’avoir rien
  fait ou presque…\nJ’ai la sensation de perdre ma vie à la gagner
 ….\nJe suis toujours disponible pour les autres et rarement pour moi
 \nJe suis chef d’entreprise et je suis débordé(e) en permanence…
 \nObjectif général: 7 clés pour gérer son temps facilement\nObject
 ifs opérationnels:\nCréer des déclics successifs par la prise de co
 nscience de certains comportements interactifs « clés » avec des ex
 ercices permettant d’expérimenter individuellement\n Aperçu du Pro
 gramme :\n\nLa force de l’intention\nCourte méditation\nQu’est-ce
  que la gestion du temps?\nLes 7 étapes pour gagner du temps\nExercic
 es pratiques\nPartage des ressentis\nMéditation d’ancrage\nQuestion
 s diverses\n\n \nLe programme est le même pour les Stages Déclics e
 t les Espaces VIP, seules l'intensité et l'approfondissement diffère
 nt !\nLe nombre de participants maximum pour les Stages Déclics est d
 e 20 personnes, pour les Espaces VIP de 8 personnes.\nQuelle que soit 
 la formation proposée, je rappelle que toutes les offres de formation
 s\n• visent à fournir uniquement des informations qui ouvrent l’h
 orizon des choix possibles dans un cadre d’éducation personnelle ou
  professionnelle,  • se veulent des espaces d’apprentissage qui vi
 sent à permettre à l’individu d’expérimenter personnellement et
  d’en tirer lui-même ses propres conclusions.\nEn s’inscrivant à
  une des formations offerte par Jor Formations et Jocelyne Rousseau, l
 a personne affirme qu’elle ne se cherche pas une secte et est capabl
 e de penser par elle-même, prend responsabilité pour sa vie propre e
 t souhaite demeurer en maîtrise de ses choix personnels!\nMon désir 
 ardent, ma raison d’être \nest de participer au changement en tran
 smettant les enseignements reçus\nafin de permettre à chaque personn
 e  de développer la meilleure version d’elle-même en toute libert
 é !\n \nPlan de paiement\nPour le Stage Déclics du lundi 23 mars av
 ant le 13 mars  sur cette page\nPour l’espace VIP Déclics du lundi
  30 mars avant le 20 mars  sur cette page\n \nDès réception de vot
 re inscription et de votre règlement, c’est avec joie que votre pla
 ce sera officiellement enregistrée.\n Toutes les infos sur :  www.joc
 elynerousseau.com\n\nPour plus d'information, aller sur https://epanew
 s.fr/events/espace-vip-d-clic-g-rer-son-temps-facilement
DTSTART;TZID=Europe/Paris:20150330T090000
DTEND;TZID=Europe/Paris:20150330T170000
CATEGORIES:34
LOCATION:Ecole Sonia Delaunay
WEBSITE:https://www.google.fr/maps/place/ECOLE+PRIVEE+SONIA+DELAUNAY/@
 43.360638,3.247401,17z/data=!3m1!4b1!4m2!3m1!1s0x12b10e083aeecaff:0x2d
 242c33e018efcc
URL:https://www.google.fr/maps/place/ECOLE+PRIVEE+SONIA+DELAUNAY/@43.3
 60638,3.247401,17z/data=!3m1!4b1!4m2!3m1!1s0x12b10e083aeecaff:0x2d242c
 33e018efcc
CONTACT:
ORGANIZER;CN="Feng Shui Energie":https://epanews.fr/profile/FengShuiEn
 ergie
ATTACH;FMTTYPE="image/jpeg":http://storage.ning.com/topology/rest/1.0/
 file/get/1663332525?profile=original
ATTENDEE;ROLE=REQ-PARTICIPANT;PARTSTAT=ACCEPTED;RSVP=TRUE;CN="Feng Shu
 i Energie":https://epanews.fr/profile/FengShuiEnergie
END:VEVENT
END:VCALENDAR
