BEGIN:VCALENDAR
PRODID:NingEventWidget-v1
VERSION:2.0
METHOD:PUBLISH
BEGIN:VTIMEZONE
TZID:Europe/Paris
X-LIC-LOCATION:Europe/Paris
BEGIN:DAYLIGHT
TZOFFSETFROM:+0100
TZOFFSETTO:+0200
TZNAME:CEST
DTSTART:19700329T020000
RRULE:FREQ=YEARLY;BYMONTH=3;BYDAY=-1SU
END:DAYLIGHT
BEGIN:STANDARD
TZOFFSETFROM:+0200
TZOFFSETTO:+0100
TZNAME:CET
DTSTART:19701025T030000
RRULE:FREQ=YEARLY;BYMONTH=10;BYDAY=-1SU
END:STANDARD
END:VTIMEZONE
BEGIN:VEVENT
UID:2485226:Event:86423
DTSTAMP:20260423T122830Z
SUMMARY:Espace éco-Vacances AROLIA
DESCRIPTION:Du 8 au 15 août, dans le nord Hérault, venez planter vot
 re tente au bord d'une rivière sur un terrain aménagé écologiqueme
 nt, et partagez une semaine de convivialité créative autogéré. Ate
 liers de danse, chant, massage, yoga, tantra, clown, etc. , baignade, 
 rando, musique, cabaret. C'est 110€ la semaine, pour adultes uniquem
 ent. Pour s'inscrire : arolia@free.fr contact Philéo : 0624986150\n\n
 Pour plus d'information, aller sur https://epanews.fr/events/espace-ec
 ovacances-arolia
DTSTART;TZID=Europe/Paris:20100731T180000
DTEND;TZID=Europe/Paris:20100731T190000
CATEGORIES:34
LOCATION:St Barthélémy, Avène
WEBSITE:http://arolia.free.fr
URL:http://arolia.free.fr
CONTACT:0624986150
ORGANIZER;CN=Philéo:https://epanews.fr/profile/Phileo
ATTACH;FMTTYPE="image/jpeg":http://storage.ning.com/topology/rest/1.0/
 file/get/1662317504?profile=original
ATTENDEE;ROLE=REQ-PARTICIPANT;PARTSTAT=ACCEPTED;RSVP=TRUE;CN=Philéo:h
 ttps://epanews.fr/profile/Phileo
END:VEVENT
END:VCALENDAR
