BEGIN:VCALENDAR
PRODID:NingEventWidget-v1
VERSION:2.0
METHOD:PUBLISH
BEGIN:VTIMEZONE
TZID:Europe/Paris
X-LIC-LOCATION:Europe/Paris
BEGIN:DAYLIGHT
TZOFFSETFROM:+0100
TZOFFSETTO:+0200
TZNAME:CEST
DTSTART:19700329T020000
RRULE:FREQ=YEARLY;BYMONTH=3;BYDAY=-1SU
END:DAYLIGHT
BEGIN:STANDARD
TZOFFSETFROM:+0200
TZOFFSETTO:+0100
TZNAME:CET
DTSTART:19701025T030000
RRULE:FREQ=YEARLY;BYMONTH=10;BYDAY=-1SU
END:STANDARD
END:VTIMEZONE
BEGIN:VEVENT
UID:2485226:Event:2673188
DTSTAMP:20260423T054945Z
SUMMARY:Entretenir la flamme de l'espoir
DESCRIPTION:\n\nInscriptions et informations : http://rajayogameditati
 on.fr/pec-events/entretenir-la-flamme-de-lespoir/1474572600\nExpérien
 ce de méditation : https://www.facebook.com/RajaYogaMeditationFrance/
 videos/1003089126453433/\n\nPour plus d'information, aller sur https:/
 /epanews.fr/events/entretenir-la-flamme-de-l-espoir
DTSTART;TZID=Europe/Paris:20160922T193000
DTEND;TZID=Europe/Paris:20160922T213000
CATEGORIES:69
LOCATION:Espace culturel Saint Marc (Salle Sainte-Hélène)
WEBSITE:http://bit.ly/Jayanti-à-Lyon
URL:http://bit.ly/Jayanti-à-Lyon
CONTACT:04 78 42 97 20
ORGANIZER:Centre de Raja Yoga et de méditation de Lyon
ATTACH;FMTTYPE="image/jpeg":http://storage.ning.com/topology/rest/1.0/
 file/get/1663581574?profile=original
ATTENDEE;ROLE=REQ-PARTICIPANT;PARTSTAT=ACCEPTED;RSVP=TRUE;CN="Nicolas 
 Crettex":https://epanews.fr/profile/NicolasCrettex
END:VEVENT
END:VCALENDAR
