BEGIN:VCALENDAR
PRODID:NingEventWidget-v1
VERSION:2.0
METHOD:PUBLISH
BEGIN:VTIMEZONE
TZID:Europe/Paris
X-LIC-LOCATION:Europe/Paris
BEGIN:DAYLIGHT
TZOFFSETFROM:+0100
TZOFFSETTO:+0200
TZNAME:CEST
DTSTART:19700329T020000
RRULE:FREQ=YEARLY;BYMONTH=3;BYDAY=-1SU
END:DAYLIGHT
BEGIN:STANDARD
TZOFFSETFROM:+0200
TZOFFSETTO:+0100
TZNAME:CET
DTSTART:19701025T030000
RRULE:FREQ=YEARLY;BYMONTH=10;BYDAY=-1SU
END:STANDARD
END:VTIMEZONE
BEGIN:VEVENT
UID:2485226:Event:32671
DTSTAMP:20260420T212525Z
SUMMARY:Enseignements et Pratiques de \"Sagesse Universelle\"
DESCRIPTION:Un retour sur les précédents ateliers sera proposé avec
  échange et partage d'expériences, pratique des sons sacrés, des ma
 ntras, des runes corporelles... son du tambour, percussion reliance en
  esprit....\nNous aborderons également les principes de la visualisat
 ion positive et vous parlerez à cet effet, d'un prochain trav...ail e
 n lien avec le Québec.\n\nDans un souci d'organisation, dès que vous
  pouvez, merci de me confirmer votre participation.\n\nQue cette journ
 ée soit pleine et lumineuse pour chacun de vous.\nA bientôt.\nSoara\
 n\nParticipation : 12 €\n1ère séance gratuite\nPenser à apporter 
 un coussin et une petite couverture\n\nPour plus d'information, aller 
 sur https://epanews.fr/events/enseignements-et-pratiques-de
DTSTART;TZID=Europe/Paris:20100216T200000
DTEND;TZID=Europe/Paris:20100216T220000
CATEGORIES:07
LOCATION:LES VANS
WEBSITE:
URL:
CONTACT:06 80 73 62 04 / 04 75 38 40 69
ORGANIZER;CN="Soara Debard":https://epanews.fr/profile/SoaraDebard
ATTACH;FMTTYPE="image/jpeg":http://storage.ning.com/topology/rest/1.0/
 file/get/1662289289?profile=original
ATTENDEE;ROLE=REQ-PARTICIPANT;PARTSTAT=ACCEPTED;RSVP=TRUE;CN="Christop
 he Ribéreau-Gayon":https://epanews.fr/profile/ChristopheRibereauGayon
ATTENDEE;ROLE=REQ-PARTICIPANT;PARTSTAT=ACCEPTED;RSVP=TRUE;CN="Soara De
 bard":https://epanews.fr/profile/SoaraDebard
END:VEVENT
END:VCALENDAR
