BEGIN:VCALENDAR
PRODID:NingEventWidget-v1
VERSION:2.0
METHOD:PUBLISH
BEGIN:VTIMEZONE
TZID:Europe/Paris
X-LIC-LOCATION:Europe/Paris
BEGIN:DAYLIGHT
TZOFFSETFROM:+0100
TZOFFSETTO:+0200
TZNAME:CEST
DTSTART:19700329T020000
RRULE:FREQ=YEARLY;BYMONTH=3;BYDAY=-1SU
END:DAYLIGHT
BEGIN:STANDARD
TZOFFSETFROM:+0200
TZOFFSETTO:+0100
TZNAME:CET
DTSTART:19701025T030000
RRULE:FREQ=YEARLY;BYMONTH=10;BYDAY=-1SU
END:STANDARD
END:VTIMEZONE
BEGIN:VEVENT
UID:2485226:Event:2712289
DTSTAMP:20260420T135909Z
SUMMARY:Enseignements bouddhistes : Sagesse et compassion
DESCRIPTION:\n\nPour plus d'information, aller sur https://epanews.fr/
 events/enseignements-bouddhistes-sagesse-et-compassion
DTSTART;TZID=Europe/Paris:20160925T100000
DTEND;TZID=Europe/Paris:20160925T130000
CATEGORIES:83
LOCATION:Centre Rabten Djangtchoub Ling à Sanary
WEBSITE:http://rabtensanary.blogspot.com
URL:http://rabtensanary.blogspot.com
CONTACT:06 87 43 91 43
ORGANIZER:Centre Rabten Djangtchoub Ling Provence
ATTACH;FMTTYPE="image/jpeg":http://storage.ning.com/topology/rest/1.0/
 file/get/1663605133?profile=original
ATTENDEE;ROLE=REQ-PARTICIPANT;PARTSTAT=ACCEPTED;RSVP=TRUE;CN=Presence:
 https://epanews.fr/profile/Presence
END:VEVENT
END:VCALENDAR
