BEGIN:VCALENDAR
PRODID:NingEventWidget-v1
VERSION:2.0
METHOD:PUBLISH
BEGIN:VTIMEZONE
TZID:Europe/Paris
X-LIC-LOCATION:Europe/Paris
BEGIN:DAYLIGHT
TZOFFSETFROM:+0100
TZOFFSETTO:+0200
TZNAME:CEST
DTSTART:19700329T020000
RRULE:FREQ=YEARLY;BYMONTH=3;BYDAY=-1SU
END:DAYLIGHT
BEGIN:STANDARD
TZOFFSETFROM:+0200
TZOFFSETTO:+0100
TZNAME:CET
DTSTART:19701025T030000
RRULE:FREQ=YEARLY;BYMONTH=10;BYDAY=-1SU
END:STANDARD
END:VTIMEZONE
BEGIN:VEVENT
UID:2485226:Event:1490671
DTSTAMP:20260423T181954Z
SUMMARY:Enseignement spirituel - Guidance des ÃŠtres de LumiÃ¨re - Cha
 nneling/Canalisation avec Ma Nanda Aweh et Yosuel
DESCRIPTION:CONFERENCE session\nComprendre que tout est lÃ \n> Vendred
 i 6 septembre 2013,Â 20h Ã  22h\n\nATELIER\nDÃ©passez lÃ  oÃ¹ Vous en 
 Ãªtes\n> Samedi 7 septembre 2013,Â 14h Ã  18h\nCet atelier sera suivi 
 dâ€™une rencontre/discussion dimanche 8 septembre de 14h Ã  16h.\n\nAn
 imÃ©s par Ma Nanda Aweh\nEnseignante du Â«Â retour sur SoiÂ Â» et lâ€™
 ÃŠtre de LumiÃ¨re Yosuel en canalisation\n> Avec lâ€™intervention des 
 ÃŠtres de LumiÃ¨re et/ou des Archanges et/ou des MaÃ®tres AscensionnÃ©
 s\n\n\nâ–º ConfÃ©rence-session du 06/09 :\nCette confÃ©rence Vous perm
 ettra de comprendre ce quâ€™il se passe en Vous et ce que Vous devez a
 ccepter et dÃ©passer pour Ãªtre plus en phase avec Vous-mÃªme, mais au
 ssi dâ€™aller plus en introspection pour apprendre Ã  Vous connaÃ®tre 
 et vivre de plus en plus en osmose avec votre vÃ©ritable Conscience.\n
 Frais de participation : 10â‚¬\nâ–º Atelier du 07/09 :\nCet atelier pe
 rmet Ã  Chacun dâ€™apprendre Ã  se retrouver au CÅ“ur de son ÃŠtre, Ã 
  comprendre ce quâ€™il se passe en Nous, et surtout Ã  comprendre que 
 Nous sommes autre chose que ce que Nous croyons Ãªtre.\nThÃ¨mes abordÃ
 ©s lors de cette session : Intro de Yosuel - Vous Ãªtes des ÃŠtres sen
 suels - ComprÃ©hension de la chute - Quâ€™est-ce qui Vous empÃªche de 
 dÃ©passer lÃ  oÃ¹ Vous en Ãªtes ?\nâ–º Rencontre/discussion du 08/09 :
 \nAfin dâ€™Ã©changer avec Yosuel la comprÃ©hension sur ce que Vous ÃŠt
 es en rÃ©alitÃ©, et surtout rÃ©pondre aux questions Vous concernant da
 ns la mesure oÃ¹ cela Vous amÃ¨ne Ã  comprendre ce quâ€™il se passe en
  Vous.\nFrais de participation :\n- Atelier : 85â‚¬\n- Rencontre/discu
 ssion : 30â‚¬\nâ–ºÂ PossibilitÃ© d'un entretien individuel, sur RDV (6
 0â‚¬)\nRenseignements / Inscription :Â adamantah.crea@gmail.com\nCes r
 encontres peuvent Ãªtre suivies indÃ©pendamment l'une de l'autre.\nPou
 r toute difficultÃ© financiÃ¨re, m'en parler. Ma Nanda Aweh\nâ–º En sa
 voir plus sur :\nMa Nanda AwehÂ - visitez son site :Â medidetente.free
 .fr\nÂ \n\n\n\nPour plus d'information, aller sur https://epanews.fr/e
 vents/enseignement-spirituel-guidance-des-tres-de-lumi-re-channeling
DTSTART;TZID=Europe/Paris:20130906T200000
DTEND;TZID=Europe/Paris:20130908T140000
CATEGORIES:38, 69, 74, 73
LOCATION:Les Sources Ã  Meylan (38) - Espace Harmonie & Mieux-ÃŠtre
WEBSITE:http://www.lessourcesameylan.com/-Contact-
URL:http://www.lessourcesameylan.com/-Contact-
CONTACT:
ORGANIZER;CN="Adamantah crea":https://epanews.fr/profile/Adamantahcrea
ATTACH;FMTTYPE="image/jpeg":http://storage.ning.com/topology/rest/1.0/
 file/get/1662902327?profile=original
ATTENDEE;ROLE=REQ-PARTICIPANT;PARTSTAT=ACCEPTED;RSVP=TRUE;CN="Adamanta
 h crea":https://epanews.fr/profile/Adamantahcrea
END:VEVENT
END:VCALENDAR
