BEGIN:VCALENDAR
PRODID:NingEventWidget-v1
VERSION:2.0
METHOD:PUBLISH
BEGIN:VTIMEZONE
TZID:Europe/Paris
X-LIC-LOCATION:Europe/Paris
BEGIN:DAYLIGHT
TZOFFSETFROM:+0100
TZOFFSETTO:+0200
TZNAME:CEST
DTSTART:19700329T020000
RRULE:FREQ=YEARLY;BYMONTH=3;BYDAY=-1SU
END:DAYLIGHT
BEGIN:STANDARD
TZOFFSETFROM:+0200
TZOFFSETTO:+0100
TZNAME:CET
DTSTART:19701025T030000
RRULE:FREQ=YEARLY;BYMONTH=10;BYDAY=-1SU
END:STANDARD
END:VTIMEZONE
BEGIN:VEVENT
UID:2485226:Event:1611699
DTSTAMP:20260423T100041Z
SUMMARY:enseignement des 5 sagesses : module 1
DESCRIPTION:pour la deuxiÃ¨me annÃ©e consÃ©cutive Cristiana animera le
  premier module de l'enseignement avec pour thÃ¨me : le samsara.\nle c
 hemin de l'Ã©veil passe par des Ã©tapes successives susceptibles de no
 us ouvrir Ã  une conscience plus large, plus affinÃ©e du monde intÃ©ri
 eur et extÃ©rieur dans lequel nous Ã©voluons.\ncet enseignement propos
 e de comprendre comment nous fonctionnons entre illusion et rÃ©alitÃ©,
  de comprendre quelles sont nos intentions rÃ©elles et savoir les mett
 re au service de l'amour inconditionnel. ainsi pouvons-nous accÃ©der Ã
   l'ouverture de notre coeur, accÃ©der Ã  un amour toujours plus lumin
 eux, Ã  un amour bienveillant envers nous-mÃªmes et autrui pour le bÃ©
 nÃ©fice de tous les Ãªtres.\nchaque module peut Ãªtre suivi indÃ©penda
 mment.\n2 cÃ©rÃ©monies chamaniques de nuit ponctueront le travail intÃ
 ©rieur.\ntarif du module : 200 â‚¬\nhÃ©bergement sur place, repas et p
 etits-dÃ©jeuners : 20 â‚¬\n\nPour plus d'information, aller sur https:
 //epanews.fr/events/enseignement-des-5-sagesses-module-1
DTSTART;TZID=Europe/Paris:20131116T120000
DTEND;TZID=Europe/Paris:20131118T120000
CATEGORIES:66, 11, 09, 34
LOCATION:arles sur tech
WEBSITE:http://www.chamanisme66.fr
URL:http://www.chamanisme66.fr
CONTACT:0468986883
ORGANIZER;CN=cristiana:https://epanews.fr/profile/cristiana
ATTACH;FMTTYPE="image/jpeg":http://storage.ning.com/topology/rest/1.0/
 file/get/1662961950?profile=original
ATTENDEE;ROLE=REQ-PARTICIPANT;PARTSTAT=ACCEPTED;RSVP=TRUE;CN=cristiana
 :https://epanews.fr/profile/cristiana
END:VEVENT
END:VCALENDAR
