BEGIN:VCALENDAR
PRODID:NingEventWidget-v1
VERSION:2.0
METHOD:PUBLISH
BEGIN:VTIMEZONE
TZID:Europe/Paris
X-LIC-LOCATION:Europe/Paris
BEGIN:DAYLIGHT
TZOFFSETFROM:+0100
TZOFFSETTO:+0200
TZNAME:CEST
DTSTART:19700329T020000
RRULE:FREQ=YEARLY;BYMONTH=3;BYDAY=-1SU
END:DAYLIGHT
BEGIN:STANDARD
TZOFFSETFROM:+0200
TZOFFSETTO:+0100
TZNAME:CET
DTSTART:19701025T030000
RRULE:FREQ=YEARLY;BYMONTH=10;BYDAY=-1SU
END:STANDARD
END:VTIMEZONE
BEGIN:VEVENT
UID:2485226:Event:2628975
DTSTAMP:20260422T215755Z
SUMMARY:Enracinement & Psycho-généalogie
DESCRIPTION:http://middaywoman.com/2016/04/journee-formation-pratiques
 .html\nBonjour à tous,\n J'ai le plaisir de vous annoncer que des no
 uvelles journées de formations, de pratiques énergétiques et d'éch
 anges thérapeutiques vont avoir lieu sur Paris au Forum 104. \nJ'ani
 me depuis plusieurs années avec joie des formations pour novices et p
 raticiens. Cette fois, pour plus de fluidité dans le parcours et les 
 choix des uns et des autres, j'ai repris les thèmes abordés en forma
 tion tout en les séquençant en différentes journées. Certains thè
 mes sont tout nouveau et se veulent une invitation à appronfondir de
 s notions pour ceux qui auraient déjà suivi mes formations.\n Que v
 ous soyez particuliers (sans aucun bagage ) ou thérapeutes / pratici
 ens de santé (naturopathe, masseur, professeur de yoga, kinésiologue
 , sophrologue ...) et souhaitez cerner vos problématiques personnell
 es ou comprendre les enjeux psycho-émotionnels de votre activité ..
 . Bienvenue à vous pour ces journées de partages, d'exercices, de
  pratiques thérapeutiques.\n \nLes journées peuvent donc être suiv
 ies indépendamment les unes des autres et auront toutes lieu au Foru
 m 104 à Paris. Voici le planning des dates et les thèmes qui y sero
 nt abordés. La journée commence à 9h15 et se termine à 17H30. Le p
 rix pour chacune des journées est de 100 euros. \n \nLe Vendredi 27
  Mai 2016 Enracinement et Psycho-Généalogie Facebook Event\nJe vous
  propose durant cette journée \nD'identifier les paterns / les sché
 mas transgénérationnels redondants pour les transgresser; D'intégre
 r les expériences de vos ancêtres pour vous enraciner;\nDe vous alig
 ner à l'identité de vos racines géographiques & culturelles,\nd'Int
 égrer toute la beauté de vos héritages invisibles pour s'enraciner 
 avec une force nouvelle;  Ce travail d'enracinement développe la fo
 rce, les possibilités d'expansion et l'audace de vivre ses choix jusq
 u'au bout !\n\nPour plus d'information, aller sur https://epanews.fr/e
 vents/enracinement-psycho-g-n-alogie
DTSTART;TZID=Europe/Paris:20160527T000000
DTEND;TZID=Europe/Paris:20160527T235900
CATEGORIES:75
LOCATION:Forum 104
WEBSITE:http://middaywoman.com/2016/04/journee-formation-pratiques.htm
 l
URL:http://middaywoman.com/2016/04/journee-formation-pratiques.html
CONTACT:0685332559
ORGANIZER;CN=Katia:https://epanews.fr/profile/Katia
ATTACH;FMTTYPE="image/jpeg":http://storage.ning.com/topology/rest/1.0/
 file/get/1663555926?profile=original
ATTENDEE;ROLE=REQ-PARTICIPANT;PARTSTAT=ACCEPTED;RSVP=TRUE;CN=Katia:htt
 ps://epanews.fr/profile/Katia
END:VEVENT
END:VCALENDAR
