BEGIN:VCALENDAR
PRODID:NingEventWidget-v1
VERSION:2.0
METHOD:PUBLISH
BEGIN:VTIMEZONE
TZID:Europe/Paris
X-LIC-LOCATION:Europe/Paris
BEGIN:DAYLIGHT
TZOFFSETFROM:+0100
TZOFFSETTO:+0200
TZNAME:CEST
DTSTART:19700329T020000
RRULE:FREQ=YEARLY;BYMONTH=3;BYDAY=-1SU
END:DAYLIGHT
BEGIN:STANDARD
TZOFFSETFROM:+0200
TZOFFSETTO:+0100
TZNAME:CET
DTSTART:19701025T030000
RRULE:FREQ=YEARLY;BYMONTH=10;BYDAY=-1SU
END:STANDARD
END:VTIMEZONE
BEGIN:VEVENT
UID:2485226:Event:759391
DTSTAMP:20260424T062925Z
SUMMARY:Enneagramme - Un Nouveau Regard sur Soi (bilingue anglais/fran
 çais)
DESCRIPTION: Bienvenu, Welcome, Suswagatam !\nJosephine et moi, toute
 s les deux enseignantes certifiées, vous proposons de découvrir l'En
 neagramme et ses utilisations pratiques dans la vie quotidienne. Cet a
 telier sera animé en anglais avec des parties en français également
 .\nNous enseignons dans la tradition orale qui privilégie le partage 
 de récits personnels. Vous serez étonnés par cette carte ancienne d
 e la personnalité humaine et sourirez bien des fois en vous disant \"
 ah, je vois maintenant pourquoi telle ou telle situation se répète d
 ans ma vie\". Vous pratiquerez des exercices de respiration pour vous 
 ressourcer, prendre de la distance avec le théâtre de la vie et repa
 rtirez avec un nouveau regard sur vous même et les autres.\nParticipa
 tion : 60 € (45 € tarif réduit)\nRenseignements et réservations 
 :\nvibha.gosselin@free.fr / O6 85 19 02 77\n\nPour plus d'information
 , aller sur https://epanews.fr/events/enneagramme-un-nouveau-regard-su
 r-soi
DTSTART;TZID=Europe/Paris:20120418T100000
DTEND;TZID=Europe/Paris:20120418T160000
CATEGORIES:75
LOCATION:Paris
WEBSITE:http://lebatondeparole.ning.com
URL:http://lebatondeparole.ning.com
CONTACT:
ORGANIZER;CN=Vibha:https://epanews.fr/profile/Veena
ATTACH;FMTTYPE="image/jpeg":http://storage.ning.com/topology/rest/1.0/
 file/get/1662586740?profile=original
ATTENDEE;ROLE=REQ-PARTICIPANT;PARTSTAT=ACCEPTED;RSVP=TRUE;CN=Vibha:htt
 ps://epanews.fr/profile/Veena
END:VEVENT
END:VCALENDAR
