BEGIN:VCALENDAR
PRODID:NingEventWidget-v1
VERSION:2.0
METHOD:PUBLISH
BEGIN:VTIMEZONE
TZID:Europe/Paris
X-LIC-LOCATION:Europe/Paris
BEGIN:DAYLIGHT
TZOFFSETFROM:+0100
TZOFFSETTO:+0200
TZNAME:CEST
DTSTART:19700329T020000
RRULE:FREQ=YEARLY;BYMONTH=3;BYDAY=-1SU
END:DAYLIGHT
BEGIN:STANDARD
TZOFFSETFROM:+0200
TZOFFSETTO:+0100
TZNAME:CET
DTSTART:19701025T030000
RRULE:FREQ=YEARLY;BYMONTH=10;BYDAY=-1SU
END:STANDARD
END:VTIMEZONE
BEGIN:VEVENT
UID:2485226:Event:1756807
DTSTAMP:20260424T093230Z
SUMMARY:Energie et Ressourcement en Irlande
DESCRIPTION:Vivez le solstice d'Ã©tÃ© en Irlande !\ndu 21 au 28 juin 2
 014\nVoici un moment de pause pour vous thÃ©rapeutes, accompagnants, p
 raticiens, soignants...! Â Un moment de profond ressourcement en terre
  Irlandaise, dans la Baie de Bantry, dans le comtÃ© de Cork.\nVous ser
 ez impressionnÃ© par les connaissances mystÃ©rieuses des anciens celti
 ques lorsque vous verrez l'alignement des pierres des \"Stones circle\
 " (cercle de pierres) avec le soleil du solstice. Vous ressentirez l'Ã
 ©nergie puissante de la terre, de la nature...\n\nVoici des vacances p
 as comme les autres : vous combinez ateliers de dÃ©veloppement de soi 
 avec excursions dans la rÃ©gion autour de \"NOTRE\" maison. Celle-ci n
 ous accueille et nous cocoone avec son jardin d'1 ha, son courant d'ea
 u et sa vue sur la Baie de Bantry, au bout du jardin....\nLes groupes 
 sont limitÃ©s Ã  9 personnes ; si vous voulez faire partie du voyage, 
 mieux vaux rÃ©server maintenant :-)\nplus d'infos ici :Â http://www.gr
 ainesdepresence.com/stage-energie-et-ressourcement-en-irlande.html\nli
 re les tÃ©moignages des anciens participants ici :Â http://www.graines
 depresence.com/vos-temoignages.html\n\nPour plus d'information, aller 
 sur https://epanews.fr/events/energie-et-ressourcement-en-irlande
DTSTART;TZID=Europe/Paris:20140621T090000
DTEND;TZID=Europe/Paris:20140628T110000
CATEGORIES:tous
LOCATION:en Irlande
WEBSITE:http://www.grainesdepresence.com/stage-energie-et-ressourcemen
 t-en-irlande.html
URL:http://www.grainesdepresence.com/stage-energie-et-ressourcement-en
 -irlande.html
CONTACT:+33 6 65 47 91 95
ORGANIZER;CN="Muriel Laradi":https://epanews.fr/profile/MurielLaradi
ATTACH;FMTTYPE="image/jpeg":http://storage.ning.com/topology/rest/1.0/
 file/get/1663040335?profile=original
ATTENDEE;ROLE=REQ-PARTICIPANT;PARTSTAT=ACCEPTED;RSVP=TRUE;CN="Muriel L
 aradi":https://epanews.fr/profile/MurielLaradi
END:VEVENT
END:VCALENDAR
