BEGIN:VCALENDAR
PRODID:NingEventWidget-v1
VERSION:2.0
METHOD:PUBLISH
BEGIN:VTIMEZONE
TZID:Europe/Paris
X-LIC-LOCATION:Europe/Paris
BEGIN:DAYLIGHT
TZOFFSETFROM:+0100
TZOFFSETTO:+0200
TZNAME:CEST
DTSTART:19700329T020000
RRULE:FREQ=YEARLY;BYMONTH=3;BYDAY=-1SU
END:DAYLIGHT
BEGIN:STANDARD
TZOFFSETFROM:+0200
TZOFFSETTO:+0100
TZNAME:CET
DTSTART:19701025T030000
RRULE:FREQ=YEARLY;BYMONTH=10;BYDAY=-1SU
END:STANDARD
END:VTIMEZONE
BEGIN:VEVENT
UID:2485226:Event:973168
DTSTAMP:20260419T151709Z
SUMMARY:Enchanter sa vie : atelier d'éveil à la conscience de soi
DESCRIPTION:Quand le développement personnel est au service de l’ab
 ondance :\n - Comment inviter le succès, l’abondance, et la joie d
 ans tous les aspects de votre vie ?\n- Vous seul pouvez créer la paix
  et le bonheur à l’intérieur de vous !\nLien web du flyer : http:/
 /www.divine-attitude.org/vie/ST-LO-2012.pdf\n\nPour plus d'information
 , aller sur https://epanews.fr/events/enchanter-sa-vie-atelier-d-veil-
 la-conscience-de-soi
DTSTART;TZID=Europe/Paris:20121013T000000
DTEND;TZID=Europe/Paris:20121014T235900
CATEGORIES:50
LOCATION:Saint-Lô
WEBSITE:http://www.divine-attitude.org/vie/ST-LO-2012.pdf
URL:http://www.divine-attitude.org/vie/ST-LO-2012.pdf
CONTACT:0660119982
ORGANIZER;CN=Bhaktashanti:https://epanews.fr/profile/BrunoBerthelot
ATTACH;FMTTYPE="image/jpeg":http://storage.ning.com/topology/rest/1.0/
 file/get/1662677105?profile=original
ATTENDEE;ROLE=REQ-PARTICIPANT;PARTSTAT=ACCEPTED;RSVP=TRUE;CN=Bhaktasha
 nti:https://epanews.fr/profile/BrunoBerthelot
END:VEVENT
END:VCALENDAR
