BEGIN:VCALENDAR
PRODID:NingEventWidget-v1
VERSION:2.0
METHOD:PUBLISH
BEGIN:VTIMEZONE
TZID:Europe/Paris
X-LIC-LOCATION:Europe/Paris
BEGIN:DAYLIGHT
TZOFFSETFROM:+0100
TZOFFSETTO:+0200
TZNAME:CEST
DTSTART:19700329T020000
RRULE:FREQ=YEARLY;BYMONTH=3;BYDAY=-1SU
END:DAYLIGHT
BEGIN:STANDARD
TZOFFSETFROM:+0200
TZOFFSETTO:+0100
TZNAME:CET
DTSTART:19701025T030000
RRULE:FREQ=YEARLY;BYMONTH=10;BYDAY=-1SU
END:STANDARD
END:VTIMEZONE
BEGIN:VEVENT
UID:2485226:Event:482049
DTSTAMP:20260422T205255Z
SUMMARY:En Route vers le Mieux-Etre 
DESCRIPTION:Développez l’abondance et le succès en prenant votre 
 vie en main :\nLibérez votre potentiel émotionnel, dépassez vos cro
 yances limitantes, orientez votre vie vers vos aspirations les plus pr
 ofondes, réalisez vos projets et toutes vos envies !\nAvec nous sur 
 2 jours avec différentes approches (loi d'attraction, EFT, Constellat
 ions Familiales, Acupressure, Communication Bienveillante) : 180€\n\
 nPour plus d'information, aller sur https://epanews.fr/events/en-route
 -vers-le-mieux-etre
DTSTART;TZID=Europe/Paris:20110917T093000
DTEND;TZID=Europe/Paris:20110918T173000
CATEGORIES:13
LOCATION:Marseille
WEBSITE:http://maps.google.fr/maps?hl=fr&tab=wl
URL:http://maps.google.fr/maps?hl=fr&tab=wl
CONTACT:06 15 38 43 53 
ORGANIZER;CN="Isabelle  SEGUIN":https://epanews.fr/profile/IsabelleSEG
 UINROBBES
ATTACH;FMTTYPE="image/jpeg":http://storage.ning.com/topology/rest/1.0/
 file/get/1662448917?profile=original
ATTENDEE;ROLE=REQ-PARTICIPANT;PARTSTAT=ACCEPTED;RSVP=TRUE;CN="Hervé R
 obbes":https://epanews.fr/profile/HerveRobbes
ATTENDEE;ROLE=REQ-PARTICIPANT;PARTSTAT=ACCEPTED;RSVP=TRUE;CN="Isabelle
   SEGUIN":https://epanews.fr/profile/IsabelleSEGUINROBBES
END:VEVENT
END:VCALENDAR
