BEGIN:VCALENDAR
PRODID:NingEventWidget-v1
VERSION:2.0
METHOD:PUBLISH
BEGIN:VTIMEZONE
TZID:Europe/Paris
X-LIC-LOCATION:Europe/Paris
BEGIN:DAYLIGHT
TZOFFSETFROM:+0100
TZOFFSETTO:+0200
TZNAME:CEST
DTSTART:19700329T020000
RRULE:FREQ=YEARLY;BYMONTH=3;BYDAY=-1SU
END:DAYLIGHT
BEGIN:STANDARD
TZOFFSETFROM:+0200
TZOFFSETTO:+0100
TZNAME:CET
DTSTART:19701025T030000
RRULE:FREQ=YEARLY;BYMONTH=10;BYDAY=-1SU
END:STANDARD
END:VTIMEZONE
BEGIN:VEVENT
UID:2485226:Event:864611
DTSTAMP:20260421T143638Z
SUMMARY:En Août, ressourcez-vous en Irlande !
DESCRIPTION:Envie de vous ressourcer ?   \nEt si vous ...combiniez p
 laisirs, arts et développement personnel ?  …nourrissiez votre coeu
 r à l'abondance de la nature irlandaise, à la puissance de son éner
 gie, à l'accueil légendaire et la simplicité de ses habitants ?\nIm
 aginez.... les merveilleux paysages de \"South West Cork\", dans le Su
 d-Ouest de l'Irlande...! \nImaginez-vous sentir librement l'énergie 
 de la nature, danser au son de musiques, de chants ou du silence !  
                 \nVous sentez-vous vous ressourcer dan
 s tous ces moments conscients ?\nNotre groupe (8 pers. max.) vivra 7 j
 ours à Glengariff dans un petit coin de paradis qui regarde l'océan.
   Nous y ferons grandir la Présence avec l'écoute sensitive, la dan
 se, les sons, nous marcherons sur les collines de la Péninsule du Bea
 ra, visiterons un autel druidique, développerons notre perception én
 ergétique et explorerons la joie dans tous les petits riens et l'extr
 aordinaire de cette région...\nIl reste encore 3 places !!\nDans la j
 oie de vous accueillir et vivre cette expérience ensemble, je vous di
 s à bientôt !\nPlus d'infos sur http://www.agir-pour-soi.com/voyages
 -stages--irlande.html\nou appelez Muriel au 06 65 47 91 95\n\nPour plu
 s d'information, aller sur https://epanews.fr/events/en-ao-t-ressource
 z-vous-en-irlande
DTSTART;TZID=Europe/Paris:20120804T180000
DTEND;TZID=Europe/Paris:20120811T050000
CATEGORIES:irlande
LOCATION:Glengariff, en Irlande, dans la région Sud-Ouest de Cork
WEBSITE:http://www.agir-pour-soi.com/voyages-stages--irlande.html
URL:http://www.agir-pour-soi.com/voyages-stages--irlande.html
CONTACT:0665479195
ORGANIZER;CN="Muriel Laradi":https://epanews.fr/profile/MurielLaradi
ATTACH;FMTTYPE="image/jpeg":http://storage.ning.com/topology/rest/1.0/
 file/get/1662626324?profile=original
ATTENDEE;ROLE=REQ-PARTICIPANT;PARTSTAT=ACCEPTED;RSVP=TRUE;CN="Muriel L
 aradi":https://epanews.fr/profile/MurielLaradi
END:VEVENT
END:VCALENDAR
