BEGIN:VCALENDAR
PRODID:NingEventWidget-v1
VERSION:2.0
METHOD:PUBLISH
BEGIN:VTIMEZONE
TZID:Europe/Paris
X-LIC-LOCATION:Europe/Paris
BEGIN:DAYLIGHT
TZOFFSETFROM:+0100
TZOFFSETTO:+0200
TZNAME:CEST
DTSTART:19700329T020000
RRULE:FREQ=YEARLY;BYMONTH=3;BYDAY=-1SU
END:DAYLIGHT
BEGIN:STANDARD
TZOFFSETFROM:+0200
TZOFFSETTO:+0100
TZNAME:CET
DTSTART:19701025T030000
RRULE:FREQ=YEARLY;BYMONTH=10;BYDAY=-1SU
END:STANDARD
END:VTIMEZONE
BEGIN:VEVENT
UID:2485226:Event:896220
DTSTAMP:20260421T143235Z
SUMMARY:stage vedic art
DESCRIPTION:Stage de Vedic Art dans le Lot.\nVedic Art est un processu
 s pour stimuler notre Ã©volution Ã  travers la crÃ©ativitÃ©. Ce proces
 sus est destinÃ©Â :  - Ã  celles et ceux qui sont attirÃ©s par la conn
 aissance de SoiÂ ; - aux personnes qui se sont arrÃªtÃ©s de dessiner e
 t de peindre depuis lâ€™Ã©cole et ont perdu confiance en leur capacitÃ
 © de crÃ©erÂ ; - toute personne nâ€™ayant jamais tenu un pinceau, ou p
 eignant dÃ©jÃ .  La crÃ©ativitÃ© nâ€™a pas besoin dâ€™Ãªtre inventÃ©e.
  Sa source puissante se trouve dÃ©jÃ  en nous. Quand la pulsion du pre
 mier principe de Vedic Art est Ã©veillÃ©e, lâ€™intelligence crÃ©ative 
 se met en mouvement..\nUn enseignement pour Ã©lever la conscience et v
 ivre plus prÃ¨s de vos rÃªves, Ã  lâ€™aide du dessin et de la peinture
 .  Aucune expÃ©rience nâ€™est nÃ©cessaireÂ !\nIl suffit dâ€™avoir envi
 e dâ€™explorer lâ€™extraordinaire domaine de la crÃ©ativitÃ© et des op
 portunitÃ©s de la vie humaine...\nLe but de Vedic Art est dâ€™exploite
 r nos potentialitÃ©s et contacter notre propre intelligence crÃ©ative.
  Chacun trouvera sa forme unique dâ€™expression â€“ une faÃ§on personn
 elle de faire Ã©merger librement ses images intÃ©rieures.  Vedic Art e
 st un enseignement de 17 principes provenant dâ€™une connaissance mill
 Ã©naire Indienne, le Veda. Les principes sont des guides aussi bien da
 ns lâ€™art que dans la vie. Ils sont lâ€™expression dâ€™une science de
 s lois naturelles et des connaissances qui existent en nous tous, mais
  qui ne sont pas encore activÃ©es.  GrÃ¢ce aux exercices ludiques et s
 imples, vous dÃ©couvrirez, entre autre, la puissance du cerveau droit 
 qui est reliÃ© Ã  lâ€™intuition, au sensÂ , et Ã  la dimension intÃ©ri
 eure, etc. Une nouvelle faÃ§on de regarder sâ€™installe alors.Â  Des r
 Ã©ponses Ã  des questions de votre vie se mettent doucement en place, 
 les choix deviennent plus Ã©vidents, l\"Ã©nergie trouve son chemin...\
 nLe but de Vedic Art est dâ€™exploiter nos potentialitÃ©s et contacter
  notre propre intelligence crÃ©ative. Chacun trouvera sa forme unique 
 dâ€™expression â€“ une faÃ§on personnelle de faire Ã©merger librement 
 ses images intÃ©rieures. Vedic Art a Ã©tÃ© dÃ©veloppÃ© et est rendu ac
 cessible aux occidentaux depuis 17 ans grÃ¢ce Ã  lâ€™artiste suÃ©dois 
 Curt KÃ¤llman. Le processus est aujourdâ€™hui enseignÃ© pour la premiÃ
 ¨re fois en France. Vedic Art est indÃ©pendant de toute Ã©cole et croy
 ance et ne se rÃ©fÃ¨re Ã  aucune religion ou philosophie\nÂ \n\nPour p
 lus d'information, aller sur https://epanews.fr/events/elfi-2
DTSTART;TZID=Europe/Paris:20120806T100000
DTEND;TZID=Europe/Paris:20120811T053000
CATEGORIES:46
LOCATION:Arcambal -Lot
WEBSITE:http://www.vedicart.fr (url)
URL:http://www.vedicart.fr (url)
CONTACT:06.81.62.34.57
ORGANIZER;CN=ELFI:https://epanews.fr/profile/ELFI
ATTACH;FMTTYPE="image/jpeg":http://storage.ning.com/topology/rest/1.0/
 file/get/1662638611?profile=original
ATTENDEE;ROLE=REQ-PARTICIPANT;PARTSTAT=ACCEPTED;RSVP=TRUE;CN=ELFI:http
 s://epanews.fr/profile/ELFI
END:VEVENT
END:VCALENDAR
