BEGIN:VCALENDAR
PRODID:NingEventWidget-v1
VERSION:2.0
METHOD:PUBLISH
BEGIN:VTIMEZONE
TZID:Europe/Paris
X-LIC-LOCATION:Europe/Paris
BEGIN:DAYLIGHT
TZOFFSETFROM:+0100
TZOFFSETTO:+0200
TZNAME:CEST
DTSTART:19700329T020000
RRULE:FREQ=YEARLY;BYMONTH=3;BYDAY=-1SU
END:DAYLIGHT
BEGIN:STANDARD
TZOFFSETFROM:+0200
TZOFFSETTO:+0100
TZNAME:CET
DTSTART:19701025T030000
RRULE:FREQ=YEARLY;BYMONTH=10;BYDAY=-1SU
END:STANDARD
END:VTIMEZONE
BEGIN:VEVENT
UID:2485226:Event:1817632
DTSTAMP:20260425T183731Z
SUMMARY:Eduquer à la joie par Antonella Verdiani
DESCRIPTION:Docteur en sciences de l’éducation -ex-spécialiste de 
 l'éducation à la paix à l'UNESCO\nhttp://www.education-biocentrique
 .com/\n\nPour plus d'information, aller sur https://epanews.fr/events/
 eduquer-la-joie-par-antonella-verdiani
DTSTART;TZID=Europe/Paris:20140321T193000
DTEND;TZID=Europe/Paris:20140321T230000
CATEGORIES:44
LOCATION:1 rue de Koufra 44000 NANTES
WEBSITE:http://www.education-biocentrique.com/
URL:http://www.education-biocentrique.com/
CONTACT:
ORGANIZER;CN="Education Biocentrique":https://epanews.fr/profile/Educa
 tionBiocentrique894
ATTACH;FMTTYPE="image/jpeg":http://storage.ning.com/topology/rest/1.0/
 file/get/1663081573?profile=original
ATTENDEE;ROLE=REQ-PARTICIPANT;PARTSTAT=ACCEPTED;RSVP=TRUE;CN="Educatio
 n Biocentrique":https://epanews.fr/profile/EducationBiocentrique894
END:VEVENT
END:VCALENDAR
