BEGIN:VCALENDAR
PRODID:NingEventWidget-v1
VERSION:2.0
METHOD:PUBLISH
BEGIN:VTIMEZONE
TZID:Europe/Paris
X-LIC-LOCATION:Europe/Paris
BEGIN:DAYLIGHT
TZOFFSETFROM:+0100
TZOFFSETTO:+0200
TZNAME:CEST
DTSTART:19700329T020000
RRULE:FREQ=YEARLY;BYMONTH=3;BYDAY=-1SU
END:DAYLIGHT
BEGIN:STANDARD
TZOFFSETFROM:+0200
TZOFFSETTO:+0100
TZNAME:CET
DTSTART:19701025T030000
RRULE:FREQ=YEARLY;BYMONTH=10;BYDAY=-1SU
END:STANDARD
END:VTIMEZONE
BEGIN:VEVENT
UID:2485226:Event:1818320
DTSTAMP:20260425T194821Z
SUMMARY:Éduquer à la joie par Antonella VERDIANI
DESCRIPTION:Conférence : vendredi  21 mars\n19h45 à 22h -    
  salle Bonnaire   –   1 rue de Koufra  Nantes\nEduquer à la joie
  c'est nourrir et cultiver notre partie humaine la plus lumineuse, la 
 joie, pour qu'elle demeure notre moteur d'évolution interne et devien
 ne notre puissance d'action collective dans la construction de la paix
 . Antonella https://www.youtube.com/watch?v=gzfWWJMZHWM\n\nPour plus 
 d'information, aller sur https://epanews.fr/events/eduquer-la-joie-par
 -antonella-verdiani-1
DTSTART;TZID=Europe/Paris:20140321T194500
DTEND;TZID=Europe/Paris:20140321T233000
CATEGORIES:44
LOCATION:Nantes
WEBSITE:http://www.education-biocentrique.com/
URL:http://www.education-biocentrique.com/
CONTACT:
ORGANIZER:Education Biocentrique  ABE
ATTACH;FMTTYPE="image/jpeg":http://storage.ning.com/topology/rest/1.0/
 file/get/1663080243?profile=original
ATTENDEE;ROLE=REQ-PARTICIPANT;PARTSTAT=ACCEPTED;RSVP=TRUE;CN="Educatio
 n Biocentrique":https://epanews.fr/profile/EducationBiocentrique894
END:VEVENT
END:VCALENDAR
