BEGIN:VCALENDAR
PRODID:NingEventWidget-v1
VERSION:2.0
METHOD:PUBLISH
BEGIN:VTIMEZONE
TZID:Europe/Paris
X-LIC-LOCATION:Europe/Paris
BEGIN:DAYLIGHT
TZOFFSETFROM:+0100
TZOFFSETTO:+0200
TZNAME:CEST
DTSTART:19700329T020000
RRULE:FREQ=YEARLY;BYMONTH=3;BYDAY=-1SU
END:DAYLIGHT
BEGIN:STANDARD
TZOFFSETFROM:+0200
TZOFFSETTO:+0100
TZNAME:CET
DTSTART:19701025T030000
RRULE:FREQ=YEARLY;BYMONTH=10;BYDAY=-1SU
END:STANDARD
END:VTIMEZONE
BEGIN:VEVENT
UID:2485226:Event:1229330
DTSTAMP:20260421T114106Z
SUMMARY:Ecoutes la vague tu sentiras la mer bouger
DESCRIPTION:SÃ©minaire de psychosynthÃ¨se pour dÃ©velopper une qualitÃ
 © de prÃ©sence Ã  soi et au monde.\nAvec Tan Nguyen\nQuand vous appliq
 uez un coquillage contre votre oreille, vous croyez entendre le bruit 
 de la mer. En rÃ©alitÃ©, vous entendez le battement de votre propre sa
 ng.Pourquoi ne pas Ã©couter directement le grand monde plutÃ´t que ce 
 que nous filtronsÂ de la rÃ©alitÃ© ? Comment accÃ©der Ã  un vÃ©cu plus
  riche du rÃ©elÂ de notre vie ?Dâ€™abord en sentant que nous avons le 
 choix. Ce sÃ©minaire est pour ceux qui veulentÂ  dÃ©couvrir quâ€™ils o
 nt le choix de ressentir et de dÃ©velopperÂ une plus grande qualitÃ© d
 e:- prÃ©sence Ã  soi-mÃªme- prÃ©sence Ã  lâ€™autre- prÃ©sence au monde
 CommentÂ ? ProfondÃ©ment, nous savons dÃ©jÃ  le chemin. Chacun de nous
  est responsable de sa position de vie.Nous avons le choix dâ€™un chem
 in possibleÂ :- Pratiquer le soin de soi plutÃ´t que de se complaire d
 ans les blessures de lâ€™Ã¢me- Initier la relation Ã  lâ€™autre plutÃ´
 t que de subir la confusion- DÃ©velopper la rÃ©ceptivitÃ© plutÃ´t que 
 lâ€™hypersensibilitÃ©- Ecouter lâ€™intention du cÅ“ur plutÃ´t que lâ€™
 esprit critiqueCultiver les valeurs de la beautÃ©, de lâ€™amour, de la
  crÃ©ativitÃ© plutÃ´t que se dÃ©battre dans nos croyances sur notre va
 leur supposÃ©e. Â  Le sÃ©minaire est un cadre qui facilite la dÃ©couve
 rte de ce chemin avec des aides conceptuelles et des exercices pratiqu
 es impliquant le corps, les sentiments, la cognition et lâ€™imaginatio
 n. La PsychosynthÃ¨se, crÃ©Ã©e par le Docteur Roberto Assagioli (1888-
 1974) est une mÃ©thode (Â«Â chemin versÂ Â») de retrouvailles avec sa 
 vÃ©ritÃ© intÃ©rieure. Â Quand nous contemplons la mer en ne restant pa
 s fixÃ©s sur une vague de surface, nous ressentons dans notre Ãªtre in
 tÃ©rieur le mouvement profond de la mer en relation avec lâ€™ensemble 
 des Ã©lÃ©ments. De la mÃªme maniÃ¨re, nous pouvons ainsi nous replacer
  nous-mÃªmes et notre projet de vie dans le vaste cadre du monde plutÃ
 ´t que dans le cadre Ã©troit de ce que nous croyons connaÃ®tre.Le sÃ©m
 inaire est un temps pour se replacer dans une perspective qui nous con
 vient rÃ©ellement. Â Tan NGUYEN exerce et enseigne la psychothÃ©rapie 
 et le dÃ©veloppement personnel depuis prÃ¨s de 40 ans en Europe. Il es
 t diplÃ´mÃ© en philosophie, psychothÃ©rapie et sciences sociales. Form
 ateur en psychosynthÃ¨se, il est auteur de Â«Â Pourquoi la psychothÃ©r
 apieÂ ?Â Â».\nInscription et renseignement : s.beraut@gmail.com\nSÃ©mi
 naire en rÃ©sidentiel (2 nuits)\n233 euros + 100 euros (hÃ©bergement e
 t repas)\n\nPour plus d'information, aller sur https://epanews.fr/even
 ts/ecoutes-la-vague-tu-sentiras-la-mer-bouger
DTSTART;TZID=Europe/Paris:20130503T180000
DTEND;TZID=Europe/Paris:20130505T170000
CATEGORIES:35, 56, 22, 53, 44
LOCATION:Rennes
WEBSITE:
URL:
CONTACT:0666900103
ORGANIZER;CN=Stefber:https://epanews.fr/profile/Stefber
ATTACH;FMTTYPE="image/jpeg":http://storage.ning.com/topology/rest/1.0/
 file/get/1662777356?profile=original
ATTENDEE;ROLE=REQ-PARTICIPANT;PARTSTAT=ACCEPTED;RSVP=TRUE;CN=Stefber:h
 ttps://epanews.fr/profile/Stefber
END:VEVENT
END:VCALENDAR
