BEGIN:VCALENDAR
PRODID:NingEventWidget-v1
VERSION:2.0
METHOD:PUBLISH
BEGIN:VTIMEZONE
TZID:Europe/Paris
X-LIC-LOCATION:Europe/Paris
BEGIN:DAYLIGHT
TZOFFSETFROM:+0100
TZOFFSETTO:+0200
TZNAME:CEST
DTSTART:19700329T020000
RRULE:FREQ=YEARLY;BYMONTH=3;BYDAY=-1SU
END:DAYLIGHT
BEGIN:STANDARD
TZOFFSETFROM:+0200
TZOFFSETTO:+0100
TZNAME:CET
DTSTART:19701025T030000
RRULE:FREQ=YEARLY;BYMONTH=10;BYDAY=-1SU
END:STANDARD
END:VTIMEZONE
BEGIN:VEVENT
UID:2485226:Event:2613742
DTSTAMP:20260423T104515Z
SUMMARY:Ecouter  son enfant intérieur
DESCRIPTION:L’Enfant Intérieur  est  votre trésor  trop souvent
  ignoré !\nLes moments difficiles que nous avons vécus ont inscrit 
 une blessure dans notre mémoire d’enfant,  ainsi à chaque fois qu
 e nous revivons une situation semblable, la blessure est stimulée et 
 inconsciemment ramenée à la vie, peu importe le nombre d’années q
 ui se sont écoulées depuis l’incident premier ou nous étions enfa
 nt.\n \n Ce réveil a pour effet de nous faire réagir d'une façon 
 impulsive et parfois même de poser des gestes qui nous paraissent tou
 t à fait incompréhensibles, des comportements où la logique n'a plu
 s sa place. C'est alors notre de l’enfant intérieur qui se défend
 . Venez écouter ses peines comme ses besoins.\nPour être un adulte 
  libre et épanoui, il est indispensable de renouer avec  son l’enf
 ant intérieur .Venez redécouvrir ses talents enfouis en vous. Ce qui
  résulte de ce travail est une plus grande paix intérieure.\n \n\nP
 our plus d'information, aller sur https://epanews.fr/events/ecouter-so
 n-enfant-int-rieur
DTSTART;TZID=Europe/Paris:20160429T140000
DTEND;TZID=Europe/Paris:20160429T173000
CATEGORIES:95
LOCATION:ESPACE PAQUERETTES  A EAUBONNE
WEBSITE:http://atelierspaquerettes.com
URL:http://atelierspaquerettes.com
CONTACT:0687623118
ORGANIZER;CN="Martine gagnon":https://epanews.fr/profile/Martinegagnon
ATTACH;FMTTYPE="image/jpeg":http://storage.ning.com/topology/rest/1.0/
 file/get/1663550132?profile=original
ATTENDEE;ROLE=REQ-PARTICIPANT;PARTSTAT=ACCEPTED;RSVP=TRUE;CN="Martine 
 gagnon":https://epanews.fr/profile/Martinegagnon
END:VEVENT
END:VCALENDAR
