BEGIN:VCALENDAR
PRODID:NingEventWidget-v1
VERSION:2.0
METHOD:PUBLISH
BEGIN:VTIMEZONE
TZID:Europe/Paris
X-LIC-LOCATION:Europe/Paris
BEGIN:DAYLIGHT
TZOFFSETFROM:+0100
TZOFFSETTO:+0200
TZNAME:CEST
DTSTART:19700329T020000
RRULE:FREQ=YEARLY;BYMONTH=3;BYDAY=-1SU
END:DAYLIGHT
BEGIN:STANDARD
TZOFFSETFROM:+0200
TZOFFSETTO:+0100
TZNAME:CET
DTSTART:19701025T030000
RRULE:FREQ=YEARLY;BYMONTH=10;BYDAY=-1SU
END:STANDARD
END:VTIMEZONE
BEGIN:VEVENT
UID:2485226:Event:1363145
DTSTAMP:20260422T022325Z
SUMMARY:Ecouter, exprimer, libérer, en conscience, et célébrer
DESCRIPTION:Atelier collectif :\nSur le chemin des libérations, pour 
 \"Etre soi-même\"\nUne invitation à écouter à l'intérieur, explor
 er ce qui se joue dans nos attitudes inconscientes, développer notre 
 intuition, nous libérer du passé, prendre confiance dans nos capacit
 és, oser être soi, partager, célébrer...\nAvec les Constellations 
 Planétaires, véritables relais d'information de notre vécu, qui ré
 sonnent avec nos fonctionnements intimes, nos émotions et nos valeurs
  essentielles\nAtelier qui agit sur les 3 niveaux : physique, émotion
 nel, spirituel\nanimé par Dominique, créatrice des ateliers de Const
 ellations Planétaires\nParticipation : 40 € \nau Tempo Sylvabelle,
  71 rue Sylvabelle, 13006 Marseille, parking gratuit à l'intérieur (
 près du Métro Estrangin)\nContact : \ndamplanet@free.fr\n06 89 09 7
 6 95\n\nPour plus d'information, aller sur https://epanews.fr/events/e
 couter-exprimer-liberer-en-conscience-et-partager
DTSTART;TZID=Europe/Paris:20130622T134500
DTEND;TZID=Europe/Paris:20130622T180000
CATEGORIES:13
LOCATION:TEMPO SYLVABELLE
WEBSITE:http://realisationdesoi-dochalib.blogspot.fr
URL:http://realisationdesoi-dochalib.blogspot.fr
CONTACT:06 89 09 76 95
ORGANIZER;CN=dominique:https://epanews.fr/profile/domi
ATTACH;FMTTYPE="image/jpeg":http://storage.ning.com/topology/rest/1.0/
 file/get/1662837195?profile=original
ATTENDEE;ROLE=REQ-PARTICIPANT;PARTSTAT=ACCEPTED;RSVP=TRUE;CN=dominique
 :https://epanews.fr/profile/domi
END:VEVENT
END:VCALENDAR
