BEGIN:VCALENDAR
PRODID:NingEventWidget-v1
VERSION:2.0
METHOD:PUBLISH
BEGIN:VTIMEZONE
TZID:Europe/Paris
X-LIC-LOCATION:Europe/Paris
BEGIN:DAYLIGHT
TZOFFSETFROM:+0100
TZOFFSETTO:+0200
TZNAME:CEST
DTSTART:19700329T020000
RRULE:FREQ=YEARLY;BYMONTH=3;BYDAY=-1SU
END:DAYLIGHT
BEGIN:STANDARD
TZOFFSETFROM:+0200
TZOFFSETTO:+0100
TZNAME:CET
DTSTART:19701025T030000
RRULE:FREQ=YEARLY;BYMONTH=10;BYDAY=-1SU
END:STANDARD
END:VTIMEZONE
BEGIN:VEVENT
UID:2485226:Event:2572368
DTSTAMP:20260422T051341Z
SUMMARY:Ecoute et Communication
DESCRIPTION:Ce stage fait partie d'une formation de 15 jours mais peut
  être pratiqué seul, nous vous invitons à parcourir les pages de no
 tre site Web : www.serelaxer.net\nIl est consacré à différentes for
 mes d'ECOUTE et de COMMUNICATION BIENVEILLANTE à l'aide de jeux desti
 nés à retransmettre aux enfants.  \nUn petit aperçu de la formatio
 n sur cette vidéo\nhttps://www.youtube.com/watch?v=K2OK93Afr-I\n\n\n\
 nPour plus d'information, aller sur https://epanews.fr/events/ecoute-e
 t-communication
DTSTART;TZID=Europe/Paris:20160417T000000
DTEND;TZID=Europe/Paris:20160418T235900
CATEGORIES:tous
LOCATION:Mirepoix
WEBSITE:http://www.serelaxer.net
URL:http://www.serelaxer.net
CONTACT:06 01 93 65 12
ORGANIZER;CN=Patricia:https://epanews.fr/profile/PatriciaB
ATTACH;FMTTYPE="image/jpeg":http://storage.ning.com/topology/rest/1.0/
 file/get/1663521674?profile=original
ATTENDEE;ROLE=REQ-PARTICIPANT;PARTSTAT=ACCEPTED;RSVP=TRUE;CN=Patricia:
 https://epanews.fr/profile/PatriciaB
END:VEVENT
END:VCALENDAR
