BEGIN:VCALENDAR
PRODID:NingEventWidget-v1
VERSION:2.0
METHOD:PUBLISH
BEGIN:VTIMEZONE
TZID:Europe/Paris
X-LIC-LOCATION:Europe/Paris
BEGIN:DAYLIGHT
TZOFFSETFROM:+0100
TZOFFSETTO:+0200
TZNAME:CEST
DTSTART:19700329T020000
RRULE:FREQ=YEARLY;BYMONTH=3;BYDAY=-1SU
END:DAYLIGHT
BEGIN:STANDARD
TZOFFSETFROM:+0200
TZOFFSETTO:+0100
TZNAME:CET
DTSTART:19701025T030000
RRULE:FREQ=YEARLY;BYMONTH=10;BYDAY=-1SU
END:STANDARD
END:VTIMEZONE
BEGIN:VEVENT
UID:2485226:Event:302402
DTSTAMP:20260422T035053Z
SUMMARY:Ecole de l'alchimiste
DESCRIPTION:Formation Ecole de l'Alchimiste :\nC'est une Ã©cole Ã©sotÃ
 ©rique qui vous donne accÃ¨s Ã  la comprÃ©hension du langage SacrÃ© et
  ExotÃ©rique.\n\nCet enseignement utilise des outils spirituels perfor
 mants (radioniques, mantras, mÃ©thodes respiratoires, sons vibrateurs,
  gÃ©omÃ©trie sacrÃ©e, maquettes Ã©nergÃ©tiques...)\nDurant chaque stag
 e, il est dÃ©veloppÃ© des thÃ¨mes de savoir et de connaissance, ainsi 
 que des exercices pratiquent en relation avec ceux-ci.\nAller Ã  la re
 ncontre de l'Ã¢me, voir, entendre, communiquer, comprendre la Dimensio
 n CÃ©leste est une volontÃ© de chaque Ãªtre authentique.\nL'Ã©veil de 
 la conscience est au rendez-vous pour le pÃ©lerin en quÃªte de son exi
 stence, en recherche de sa rÃ©alitÃ© Divine.\n\nChaque module est une 
 cession Ã  part entiÃ¨re.\nCoÃ»t du week-end 180 â‚¬.\n\nPour plus d'i
 nformation, aller sur https://epanews.fr/events/ecole-de-lalchimiste-8
DTSTART;TZID=Europe/Paris:20120519T000000
DTEND;TZID=Europe/Paris:20120520T235900
CATEGORIES:84, 04, 83, 13, 06
LOCATION:SIX FOURS LES PLAGES
WEBSITE:http://www.ecole-alchimiste.com
URL:http://www.ecole-alchimiste.com
CONTACT:VÃ©ronique 06.23.10.08.34 ou Pascale 06.60.71.04.01
ORGANIZER:Ecole de l'Alchimiste
ATTACH;FMTTYPE="image/jpeg":http://storage.ning.com/topology/rest/1.0/
 file/get/1662418511?profile=original
ATTENDEE;ROLE=REQ-PARTICIPANT;PARTSTAT=ACCEPTED;RSVP=TRUE;CN="ecole de
  l'alchimiste":https://epanews.fr/profile/ecoledelalchimiste
ATTENDEE;ROLE=REQ-PARTICIPANT;PARTSTAT=TENTATIVE;RSVP=TRUE;CN="THERAPY
  BIEN ETRE":https://epanews.fr/profile/cristalviolet
ATTENDEE;ROLE=REQ-PARTICIPANT;PARTSTAT=TENTATIVE;RSVP=TRUE;CN=corinne3
 34:https://epanews.fr/profile/corinne334
END:VEVENT
END:VCALENDAR
