BEGIN:VCALENDAR
PRODID:NingEventWidget-v1
VERSION:2.0
METHOD:PUBLISH
BEGIN:VTIMEZONE
TZID:Europe/Paris
X-LIC-LOCATION:Europe/Paris
BEGIN:DAYLIGHT
TZOFFSETFROM:+0100
TZOFFSETTO:+0200
TZNAME:CEST
DTSTART:19700329T020000
RRULE:FREQ=YEARLY;BYMONTH=3;BYDAY=-1SU
END:DAYLIGHT
BEGIN:STANDARD
TZOFFSETFROM:+0200
TZOFFSETTO:+0100
TZNAME:CET
DTSTART:19701025T030000
RRULE:FREQ=YEARLY;BYMONTH=10;BYDAY=-1SU
END:STANDARD
END:VTIMEZONE
BEGIN:VEVENT
UID:2485226:Event:302313
DTSTAMP:20260422T205122Z
SUMMARY:Ecole de l'alchimiste
DESCRIPTION:Formation Ecole de l'alchimiste :\n    C'est une école
  ésotérique qui vous donne accès à la compréhension du langage Sa
 cré et Exotérique.\n    Cet enseignement utilise des outils perfo
 rmants (radioniques, mantras, méthodes respiratoires, sons vibrateurs
 , géométrie sacrée, maquettes énergétiques...)\n    Durant cha
 que stage, il est développé des thèmes de savoir et de connaissance
 , ainsi que les exercices pratiquent en relation avec ceux-ci.\n   
  Aller à la rencontre de l'âme, voir, entendre, communiquer, compren
 dre la dimension cèleste est une volonté de chaque être authentique
 .\n    L'éveil de la conscience est au rendez-vous pour le péleri
 n en quête de son existence, en recherche de sa réalité Divine.\n 
    Chaque module est une cession à part entierè.\n    Coût de 
 chaque week-end 180 €.\n\nPour plus d'information, aller sur https:/
 /epanews.fr/events/ecole-de-lalchimiste-6
DTSTART;TZID=Europe/Paris:20111105T000000
DTEND;TZID=Europe/Paris:20111106T235900
CATEGORIES:83
LOCATION:SIX FOURS LES PLAGES
WEBSITE:http://www.ecole-alchimiste.com
URL:http://www.ecole-alchimiste.com
CONTACT:Véronique 06.23.10.08.34 ou Pascale 06.60.71.04.01
ORGANIZER:Ecole de l'Alchimiste
ATTACH;FMTTYPE="image/jpeg":http://storage.ning.com/topology/rest/1.0/
 file/get/1662418141?profile=original
ATTENDEE;ROLE=REQ-PARTICIPANT;PARTSTAT=ACCEPTED;RSVP=TRUE;CN="ecole de
  l'alchimiste":https://epanews.fr/profile/ecoledelalchimiste
ATTENDEE;ROLE=REQ-PARTICIPANT;PARTSTAT=ACCEPTED;RSVP=TRUE;CN=Lucia:htt
 ps://epanews.fr/profile/LUCCIA
END:VEVENT
END:VCALENDAR
