BEGIN:VCALENDAR
PRODID:NingEventWidget-v1
VERSION:2.0
METHOD:PUBLISH
BEGIN:VTIMEZONE
TZID:Europe/Paris
X-LIC-LOCATION:Europe/Paris
BEGIN:DAYLIGHT
TZOFFSETFROM:+0100
TZOFFSETTO:+0200
TZNAME:CEST
DTSTART:19700329T020000
RRULE:FREQ=YEARLY;BYMONTH=3;BYDAY=-1SU
END:DAYLIGHT
BEGIN:STANDARD
TZOFFSETFROM:+0200
TZOFFSETTO:+0100
TZNAME:CET
DTSTART:19701025T030000
RRULE:FREQ=YEARLY;BYMONTH=10;BYDAY=-1SU
END:STANDARD
END:VTIMEZONE
BEGIN:VEVENT
UID:2485226:Event:450648
DTSTAMP:20260423T200712Z
SUMMARY:Ecole de l'alchimiste
DESCRIPTION:Formation de l'école de l'alchimiste :\nC'est une formati
 on qui donne accès à la compréhension du langage ésotérique et sa
 cré.\nCet enseignement utilise des outils spirituels performants afin
  de vous faire évoluer rapidement.\nA chaque session il est expliqué
  des thémes de savoir et de connaissance avec des exercices pratiques
 .\nCes nombreux ateliers se font en groupe et en individuel.\nL'expér
 ience permet d'acquerir avec authenticité les Traditions sacrées tel
  que la kabbale, runes, doctrine secrète ect...\nIl s'agit de découv
 rir le fonctionnement du monde de l'invisible pour mieux y travailler,
  pour maitriser toute la \"mécanique du secret sacré\" afin de pouvo
 ir entendre, voir, percevoir cette 4ème dimension et basculer suremen
 t vers la 5ème dimension en conscience.\nTARIF du week end 180 €.\n
 \nPour plus d'information, aller sur https://epanews.fr/events/ecole-d
 e-l-alchimiste
DTSTART;TZID=Europe/Paris:20120421T000000
DTEND;TZID=Europe/Paris:20120422T235900
CATEGORIES:34, 31, 11, 30, 48, 12, 81, 13
LOCATION:AIX EN PROVENCE
WEBSITE:http://www.ecole-alchimiste.com
URL:http://www.ecole-alchimiste.com
CONTACT:Angélique 04.13.08.02.78
ORGANIZER;CN="ecole de l'alchimiste":https://epanews.fr/profile/ecoled
 elalchimiste
ATTACH;FMTTYPE="image/jpeg":http://storage.ning.com/topology/rest/1.0/
 file/get/1662444821?profile=original
ATTENDEE;ROLE=REQ-PARTICIPANT;PARTSTAT=ACCEPTED;RSVP=TRUE;CN="ecole de
  l'alchimiste":https://epanews.fr/profile/ecoledelalchimiste
END:VEVENT
END:VCALENDAR
