BEGIN:VCALENDAR
PRODID:NingEventWidget-v1
VERSION:2.0
METHOD:PUBLISH
BEGIN:VTIMEZONE
TZID:Europe/Paris
X-LIC-LOCATION:Europe/Paris
BEGIN:DAYLIGHT
TZOFFSETFROM:+0100
TZOFFSETTO:+0200
TZNAME:CEST
DTSTART:19700329T020000
RRULE:FREQ=YEARLY;BYMONTH=3;BYDAY=-1SU
END:DAYLIGHT
BEGIN:STANDARD
TZOFFSETFROM:+0200
TZOFFSETTO:+0100
TZNAME:CET
DTSTART:19701025T030000
RRULE:FREQ=YEARLY;BYMONTH=10;BYDAY=-1SU
END:STANDARD
END:VTIMEZONE
BEGIN:VEVENT
UID:2485226:Event:2660599
DTSTAMP:20260422T130201Z
SUMMARY:Echange sur les relations Femme Homme -
DESCRIPTION:Â SoirÃ©e Echange sur les relations Femme Homme -\nLe 7 ju
 in Ã  19h00, cafÃ© de l'Orangerie Ã  Toulon place de la LibertÃ©.\nLes
  merveilleuses opportunitÃ©s pour grandir dans la relation, dans sa vi
 e.\nTant de commun et de diffÃ©rence Ã  vivre ensemble afin de grandir
  dans nos identitÃ©s de femmes et d'hommes. De gagner en paix et en sÃ
 ©rÃ©nitÃ© en lÃ¢chant nos peurs qui nous plongent dans la rivalitÃ©.\n
 Comment passer d'un rapport de rivalitÃ© Ã  un rapport d'Amour ?\nIsab
 elle Niquet et Gilles Tribalat animeront cette soirÃ©e sous le signe d
 u partage dans la joie, la bienveillance et l'amitiÃ©.\nJe vous y retr
 ouve avec grande joie!\n\nÂ \n\nPour plus d'information, aller sur htt
 ps://epanews.fr/events/echange-sur-les-relations-femme-homme
DTSTART;TZID=Europe/Paris:20160607T190000
DTEND;TZID=Europe/Paris:20160607T210000
CATEGORIES:83
LOCATION:cafÃ© de l'Orangerie
WEBSITE:
URL:
CONTACT:
ORGANIZER;CN="FranÃ§oise Elisabeth":https://epanews.fr/profile/Francoi
 seElisabeth
ATTACH;FMTTYPE="image/jpeg":
ATTENDEE;ROLE=REQ-PARTICIPANT;PARTSTAT=ACCEPTED;RSVP=TRUE;CN="FranÃ§oi
 se Elisabeth":https://epanews.fr/profile/FrancoiseElisabeth
END:VEVENT
END:VCALENDAR
