BEGIN:VCALENDAR
PRODID:NingEventWidget-v1
VERSION:2.0
METHOD:PUBLISH
BEGIN:VTIMEZONE
TZID:Europe/Paris
X-LIC-LOCATION:Europe/Paris
BEGIN:DAYLIGHT
TZOFFSETFROM:+0100
TZOFFSETTO:+0200
TZNAME:CEST
DTSTART:19700329T020000
RRULE:FREQ=YEARLY;BYMONTH=3;BYDAY=-1SU
END:DAYLIGHT
BEGIN:STANDARD
TZOFFSETFROM:+0200
TZOFFSETTO:+0100
TZNAME:CET
DTSTART:19701025T030000
RRULE:FREQ=YEARLY;BYMONTH=10;BYDAY=-1SU
END:STANDARD
END:VTIMEZONE
BEGIN:VEVENT
UID:2485226:Event:1532090
DTSTAMP:20260422T084045Z
SUMMARY:Echange Reiki - Morières les Avignon
DESCRIPTION:Cet échange est ouvert à Tous : les initiés tous niveau
 x et ceux qui désirent découvrir le Reiki.\nLe groupe sera animé pa
 r Christophe et Laure.\nSi vous avez une table de massage, veuillez le
  préciser à votre inscription. Merci\nParticipation libre\nRéservez
  votre place au 04.90.33.489.70\n\nPour plus d'information, aller sur 
 https://epanews.fr/events/echange-reiki-mori-res-les-avignon
DTSTART;TZID=Europe/Paris:20130918T183000
DTEND;TZID=Europe/Paris:20130918T210000
CATEGORIES:84
LOCATION:Centre Accueil du Soi
WEBSITE:http://centre.accueil.du.soi.over-blog.com
URL:http://centre.accueil.du.soi.over-blog.com
CONTACT:04 90 33 48 70
ORGANIZER;CN="LAURE GARLIN":https://epanews.fr/profile/LaureGarlin
ATTACH;FMTTYPE="image/jpeg":http://storage.ning.com/topology/rest/1.0/
 file/get/1662922659?profile=original
ATTENDEE;ROLE=REQ-PARTICIPANT;PARTSTAT=ACCEPTED;RSVP=TRUE;CN="LAURE GA
 RLIN":https://epanews.fr/profile/LaureGarlin
END:VEVENT
END:VCALENDAR
