BEGIN:VCALENDAR
PRODID:NingEventWidget-v1
VERSION:2.0
METHOD:PUBLISH
BEGIN:VTIMEZONE
TZID:Europe/Paris
X-LIC-LOCATION:Europe/Paris
BEGIN:DAYLIGHT
TZOFFSETFROM:+0100
TZOFFSETTO:+0200
TZNAME:CEST
DTSTART:19700329T020000
RRULE:FREQ=YEARLY;BYMONTH=3;BYDAY=-1SU
END:DAYLIGHT
BEGIN:STANDARD
TZOFFSETFROM:+0200
TZOFFSETTO:+0100
TZNAME:CET
DTSTART:19701025T030000
RRULE:FREQ=YEARLY;BYMONTH=10;BYDAY=-1SU
END:STANDARD
END:VTIMEZONE
BEGIN:VEVENT
UID:2485226:Event:1152737
DTSTAMP:20260423T180258Z
SUMMARY:Echange Massage - Avignon - Second groupe
DESCRIPTION:Ce nouveau groupe s'adresse aux personnes qui ne pratiquen
 t pas assidument le massage pour leur permettre la pratique. Des conse
 ils seront donnés au cours de cette séance ou des réponses à vos q
 uestions.\nCeux qui n'ont pas pu venir au groupe déjà formé peuvent
  se joindre à ce groupe selon la disponibilité des places.\nÉchange
  Massage   :\n Ne pas oubliez de réserver (Tel ou Mail) en précisa
 nt si vous avez une table. Pensez à porter votre huile personnelle si
  vous avez et serviette ou peignoir de bain.\nParticipation : 10 euros
 \nPortez un plat de partage pour le repas du soir si vous voulez y par
 ticiper\n \n\nPour plus d'information, aller sur https://epanews.fr/e
 vents/echange-massage-avignon-second-groupe-1
DTSTART;TZID=Europe/Paris:20130306T190000
DTEND;TZID=Europe/Paris:20130306T213000
CATEGORIES:84
LOCATION:Avignon
WEBSITE:http://centre.accueil.du.soi.over-blog.com
URL:http://centre.accueil.du.soi.over-blog.com
CONTACT:04 90 33 48 70
ORGANIZER;CN="LAURE GARLIN":https://epanews.fr/profile/LaureGarlin
ATTACH;FMTTYPE="image/jpeg":http://storage.ning.com/topology/rest/1.0/
 file/get/1662581608?profile=original
ATTENDEE;ROLE=REQ-PARTICIPANT;PARTSTAT=ACCEPTED;RSVP=TRUE;CN="LAURE GA
 RLIN":https://epanews.fr/profile/LaureGarlin
END:VEVENT
END:VCALENDAR
