BEGIN:VCALENDAR
PRODID:NingEventWidget-v1
VERSION:2.0
METHOD:PUBLISH
BEGIN:VTIMEZONE
TZID:Europe/Paris
X-LIC-LOCATION:Europe/Paris
BEGIN:DAYLIGHT
TZOFFSETFROM:+0100
TZOFFSETTO:+0200
TZNAME:CEST
DTSTART:19700329T020000
RRULE:FREQ=YEARLY;BYMONTH=3;BYDAY=-1SU
END:DAYLIGHT
BEGIN:STANDARD
TZOFFSETFROM:+0200
TZOFFSETTO:+0100
TZNAME:CET
DTSTART:19701025T030000
RRULE:FREQ=YEARLY;BYMONTH=10;BYDAY=-1SU
END:STANDARD
END:VTIMEZONE
BEGIN:VEVENT
UID:2485226:Event:2185848
DTSTAMP:20260425T145341Z
SUMMARY:Echange de massages  Grenade  (31)Samedi 24 janvier 14H30/17H
DESCRIPTION:Le GEMBE, groupe d'échange de massages de bien-être est 
 un melting pot qui rassemble du shiatsu, de la réflexologie, du massa
 ge amma, de la relaxation coréenne, des pierres chaudes, du reiki, du
  massage à l'huile... et tout ce que chacun y apporte  C'est un momen
 t d'échange réservé à ceux qui maîtrisent (même imparfaitement) 
 une technique de bien-être manuel, et qui ont envie de partager.\nPRO
 CHAINE RENCONTRE:\nSAMEDI 24 JANVIER, dès 14H30A St CAPRAIS (Grenade)
 \nBienvenue aux amateurs :-)\nhttp://monheureamoi.heb3.org/index.php/e
 change-de-massages\n A bon entendeur ... Bonjour\n\nPour plus d'inform
 ation, aller sur https://epanews.fr/events/echange-de-massages-grenade
 -31-samedi-24-janvier-14h30-17h
DTSTART;TZID=Europe/Paris:20150124T143000
DTEND;TZID=Europe/Paris:20150124T170000
CATEGORIES:31
LOCATION:Foyer de St CAPRAIS
WEBSITE:
URL:
CONTACT:06 51 92 99 00
ORGANIZER;CN=monheure:https://epanews.fr/profile/monheure
ATTACH;FMTTYPE="image/jpeg":
ATTENDEE;ROLE=REQ-PARTICIPANT;PARTSTAT=ACCEPTED;RSVP=TRUE;CN=monheure:
 https://epanews.fr/profile/monheure
END:VEVENT
END:VCALENDAR
