BEGIN:VCALENDAR
PRODID:NingEventWidget-v1
VERSION:2.0
METHOD:PUBLISH
BEGIN:VTIMEZONE
TZID:Europe/Paris
X-LIC-LOCATION:Europe/Paris
BEGIN:DAYLIGHT
TZOFFSETFROM:+0100
TZOFFSETTO:+0200
TZNAME:CEST
DTSTART:19700329T020000
RRULE:FREQ=YEARLY;BYMONTH=3;BYDAY=-1SU
END:DAYLIGHT
BEGIN:STANDARD
TZOFFSETFROM:+0200
TZOFFSETTO:+0100
TZNAME:CET
DTSTART:19701025T030000
RRULE:FREQ=YEARLY;BYMONTH=10;BYDAY=-1SU
END:STANDARD
END:VTIMEZONE
BEGIN:VEVENT
UID:2485226:Event:1833990
DTSTAMP:20260421T020548Z
SUMMARY:Echange de massage et auto-massage
DESCRIPTION:Une véritable aprés midi de détente et de Bien-Être,\n
 quelques heures rien que pour vous ,\n \nJeanne Cellant vous guidera 
 dans un échange de massage, afin de rendre votre toucher plus précis
 .\n \nLa rencontre se terminera sur les conseils de Jeanne pour réus
 sir votre auto-massage et vous apaiser au quotidien.  ATTENTION : nomb
 re de places limité. Merci de vous inscrire par téléphone si possib
 le !  PAF = 15 €\n\nPour plus d'information, aller sur https://epane
 ws.fr/events/echange-de-massage-et-auto-massage
DTSTART;TZID=Europe/Paris:20140329T140000
DTEND;TZID=Europe/Paris:20140329T190000
CATEGORIES:13
LOCATION:Espace Ki-Zen
WEBSITE:
URL:
CONTACT:06.22.07.16.10
ORGANIZER;CN="Espace Ki-Zen":https://epanews.fr/profile/EspaceKiZen
ATTACH;FMTTYPE="image/jpeg":
ATTENDEE;ROLE=REQ-PARTICIPANT;PARTSTAT=ACCEPTED;RSVP=TRUE;CN=jeanne:ht
 tps://epanews.fr/profile/jeanne187
ATTENDEE;ROLE=REQ-PARTICIPANT;PARTSTAT=ACCEPTED;RSVP=TRUE;CN="Espace K
 i-Zen":https://epanews.fr/profile/EspaceKiZen
ATTENDEE;ROLE=REQ-PARTICIPANT;PARTSTAT=TENTATIVE;RSVP=TRUE;CN=jade:htt
 ps://epanews.fr/profile/RoseMarieBastardis
END:VEVENT
END:VCALENDAR
