BEGIN:VCALENDAR
PRODID:NingEventWidget-v1
VERSION:2.0
METHOD:PUBLISH
BEGIN:VTIMEZONE
TZID:Europe/Paris
X-LIC-LOCATION:Europe/Paris
BEGIN:DAYLIGHT
TZOFFSETFROM:+0100
TZOFFSETTO:+0200
TZNAME:CEST
DTSTART:19700329T020000
RRULE:FREQ=YEARLY;BYMONTH=3;BYDAY=-1SU
END:DAYLIGHT
BEGIN:STANDARD
TZOFFSETFROM:+0200
TZOFFSETTO:+0100
TZNAME:CET
DTSTART:19701025T030000
RRULE:FREQ=YEARLY;BYMONTH=10;BYDAY=-1SU
END:STANDARD
END:VTIMEZONE
BEGIN:VEVENT
UID:2485226:Event:2298256
DTSTAMP:20260420T191458Z
SUMMARY:Echange de massage de bien-être
DESCRIPTION:La prochaine rencontre du Groupe d'Echange de Massages de 
 Bien Etre aura lieu\n SAMEDI 02 MAIà St CAPRAIS (31330)42 rue du ROUA
 NELprès de la mairie annexede 14H30 à 17H\nPour s'installer,pour pap
 oter, le foyer sera ouvert à partir de 14H\nAmenez votre matériel, v
 os compétences, et vos envies.\nC'est gratuit pour une première visi
 te et pour les adhérents.(adhésion: 15€ pour 12 mois)\nPour une pr
 emière rencontre, prenez contact avec moi au préalable(Dominique: 06
  51 92 99 00 - monheureamoi@heb3.org)\nQu'est-ce que l'échange de mas
 sages?\nMettre à jour son inscription à la rencontre.\nA bientôt\nD
 ominique\n\n\n\nPour plus d'information, aller sur https://epanews.fr/
 events/echange-de-massage-de-bien-tre-7
DTSTART;TZID=Europe/Paris:20150502T140000
DTEND;TZID=Europe/Paris:20150502T170000
CATEGORIES:31
LOCATION:Saint CAPRAIS (31330)
WEBSITE:http://monheureamoi.heb3.org/
URL:http://monheureamoi.heb3.org/
CONTACT:06 51 92 99 00
ORGANIZER;CN=monheure:https://epanews.fr/profile/monheure
ATTACH;FMTTYPE="image/jpeg":http://storage.ning.com/topology/rest/1.0/
 file/get/1662942871?profile=original
ATTENDEE;ROLE=REQ-PARTICIPANT;PARTSTAT=ACCEPTED;RSVP=TRUE;CN=monheure:
 https://epanews.fr/profile/monheure
END:VEVENT
END:VCALENDAR
