BEGIN:VCALENDAR
PRODID:NingEventWidget-v1
VERSION:2.0
METHOD:PUBLISH
BEGIN:VTIMEZONE
TZID:Europe/Paris
X-LIC-LOCATION:Europe/Paris
BEGIN:DAYLIGHT
TZOFFSETFROM:+0100
TZOFFSETTO:+0200
TZNAME:CEST
DTSTART:19700329T020000
RRULE:FREQ=YEARLY;BYMONTH=3;BYDAY=-1SU
END:DAYLIGHT
BEGIN:STANDARD
TZOFFSETFROM:+0200
TZOFFSETTO:+0100
TZNAME:CET
DTSTART:19701025T030000
RRULE:FREQ=YEARLY;BYMONTH=10;BYDAY=-1SU
END:STANDARD
END:VTIMEZONE
BEGIN:VEVENT
UID:2485226:Event:2796076
DTSTAMP:20260422T191512Z
SUMMARY:Du coeur de soi au chant du coeur
DESCRIPTION:Le chant libre naît dans le silence, germe dans le cœur 
 et fleurit sur les lèvres. Au cours de cette journée de pratiques co
 rporelles et vocales, je propose aux participants de se centrer, de se
  relier dans le cœur, de s'ouvrir à l'espace intérieur et au silenc
 e ainsi qu'à la résonance des sons, pour  laisser naître le chant 
 libre, inédit et intime. Travail sur le toucher sensible, sur l'écou
 te, sur le mouvement. Appui de petits instruments comme bol de cristal
  et le sruti box. Accompagnement à la viole de gambe de moments de ch
 ant libre par une musicienne sensible.\n\nPour plus d'information, all
 er sur https://epanews.fr/events/du-coeur-de-soi-au-chant-du-coeur
DTSTART;TZID=Europe/Paris:20170226T000000
DTEND;TZID=Europe/Paris:20170226T235900
CATEGORIES:75
LOCATION:Forum 104 (Paris)
WEBSITE:
URL:
CONTACT:0688759058
ORGANIZER:Terre du Ciel-Paris
ATTACH;FMTTYPE="image/jpeg":http://storage.ning.com/topology/rest/1.0/
 file/get/1663646628?profile=original
ATTENDEE;ROLE=REQ-PARTICIPANT;PARTSTAT=ACCEPTED;RSVP=TRUE;CN=Vika:http
 s://epanews.fr/profile/Vika
END:VEVENT
END:VCALENDAR
