BEGIN:VCALENDAR
PRODID:NingEventWidget-v1
VERSION:2.0
METHOD:PUBLISH
BEGIN:VTIMEZONE
TZID:Europe/Paris
X-LIC-LOCATION:Europe/Paris
BEGIN:DAYLIGHT
TZOFFSETFROM:+0100
TZOFFSETTO:+0200
TZNAME:CEST
DTSTART:19700329T020000
RRULE:FREQ=YEARLY;BYMONTH=3;BYDAY=-1SU
END:DAYLIGHT
BEGIN:STANDARD
TZOFFSETFROM:+0200
TZOFFSETTO:+0100
TZNAME:CET
DTSTART:19701025T030000
RRULE:FREQ=YEARLY;BYMONTH=10;BYDAY=-1SU
END:STANDARD
END:VTIMEZONE
BEGIN:VEVENT
UID:2485226:Event:2955608
DTSTAMP:20260422T091732Z
SUMMARY:du 7 au 14 juillet \"Mer et miroir de l'âme\"
DESCRIPTION:A Saint Briac, Côte d'Emeraude, dans une grande maison, M
 ylène, Marie-Christine et Ghislaine vous proposent:\n\nconstellations
  familiales,\ncoaching de développement personnel,\ninitiation au cla
 ir ressenti et outils de protection\njouer à se connaître\n\nRestaur
 ation végétarienne avec Christine, notre cuisinière.\nTarif: héber
 gement en chambres doubles (2 lits ou grand lit), pension complète, a
 ctivités de groupe+ 1 consultation individuelle --> 800€\n10 places
 . Réservez maintenant.\nmylene.planchais@gmail.com - 06 67 12 95 20\
 n\nPour plus d'information, aller sur https://epanews.fr/events/du-7-a
 u-14-juillet-mer-et-miroir-de-l-me
DTSTART;TZID=Europe/Paris:20180707T170000
DTEND;TZID=Europe/Paris:20180714T100000
CATEGORIES:35
LOCATION:Route de Saint Lunaire
WEBSITE:https://myjoc.jimdo.com/mes-propositions/stage-d-&amp;eacute;t
 &amp;eacute;/
URL:https://myjoc.jimdo.com/mes-propositions/stage-d-&amp;eacute;t&amp
 ;eacute;/
CONTACT:0667129520
ORGANIZER;CN=Mylene22:https://epanews.fr/profile/Mylene22
ATTACH;FMTTYPE="image/jpeg":http://storage.ning.com/topology/rest/1.0/
 file/get/1663741252?profile=original
ATTENDEE;ROLE=REQ-PARTICIPANT;PARTSTAT=ACCEPTED;RSVP=TRUE;CN=Mylene22:
 https://epanews.fr/profile/Mylene22
END:VEVENT
END:VCALENDAR
