BEGIN:VCALENDAR
PRODID:NingEventWidget-v1
VERSION:2.0
METHOD:PUBLISH
BEGIN:VTIMEZONE
TZID:Europe/Paris
X-LIC-LOCATION:Europe/Paris
BEGIN:DAYLIGHT
TZOFFSETFROM:+0100
TZOFFSETTO:+0200
TZNAME:CEST
DTSTART:19700329T020000
RRULE:FREQ=YEARLY;BYMONTH=3;BYDAY=-1SU
END:DAYLIGHT
BEGIN:STANDARD
TZOFFSETFROM:+0200
TZOFFSETTO:+0100
TZNAME:CET
DTSTART:19701025T030000
RRULE:FREQ=YEARLY;BYMONTH=10;BYDAY=-1SU
END:STANDARD
END:VTIMEZONE
BEGIN:VEVENT
UID:2485226:Event:1218551
DTSTAMP:20260423T035212Z
SUMMARY:Drainage Energétique et Conseil en Nutrition
DESCRIPTION:Crucis Valerie et Hernandez Réné organisent du 28 avril 
 2013 au 1 mai 2013, 3 jours de formation en  développement personne
 l drainage énergétique et conseil en nutrition\nle lieu :www.chate
 auzen.com\nle programme : www.louxorthalaspa.fr ( CDF FORMATION)\n\n\n
 Pour plus d'information, aller sur https://epanews.fr/events/drainage-
 energ-tique-et-conseil-en-nutrition
DTSTART;TZID=Europe/Paris:20130428T180000
DTEND;TZID=Europe/Paris:20130501T190000
CATEGORIES:34190
LOCATION:AU CHATEAU DE MADIERES
WEBSITE:http://www.chateauzen.com
URL:http://www.chateauzen.com
CONTACT:0662170466
ORGANIZER:Ong Alice Enfants d'Afrique & LOUXOR THALASPA
ATTACH;FMTTYPE="image/jpeg":
ATTENDEE;ROLE=REQ-PARTICIPANT;PARTSTAT=ACCEPTED;RSVP=TRUE;CN="Shakti A
 desh Kaur":https://epanews.fr/profile/OngAliceEnfantsdAfrique
END:VEVENT
END:VCALENDAR
