BEGIN:VCALENDAR
PRODID:NingEventWidget-v1
VERSION:2.0
METHOD:PUBLISH
BEGIN:VTIMEZONE
TZID:Europe/Paris
X-LIC-LOCATION:Europe/Paris
BEGIN:DAYLIGHT
TZOFFSETFROM:+0100
TZOFFSETTO:+0200
TZNAME:CEST
DTSTART:19700329T020000
RRULE:FREQ=YEARLY;BYMONTH=3;BYDAY=-1SU
END:DAYLIGHT
BEGIN:STANDARD
TZOFFSETFROM:+0200
TZOFFSETTO:+0100
TZNAME:CET
DTSTART:19701025T030000
RRULE:FREQ=YEARLY;BYMONTH=10;BYDAY=-1SU
END:STANDARD
END:VTIMEZONE
BEGIN:VEVENT
UID:2485226:Event:2557955
DTSTAMP:20260421T151954Z
SUMMARY:Modification demandée
DESCRIPTION:A la découverte de ceux qui nous portent et qui nous reli
 ent à la terre : nos pieds !!! Bien plus qu’une simple technique de
  relaxation, le massage de pied est le miroir de notre état d’être
 . C’est par le biais de l’éveil à la réflexologie plantaire que
  vous prendrez conscience que le toucher, fait parler notre pied…\nD
 estinés à tous, que ce soit dans un cadre familial ou bien pour comp
 léter votre panel de techniques professionnelles,  Vous serez « rec
 eveur » puis « acteur » du bien-être de la personne que vous masse
 rez. Basé sur le travail « d’écoute », de « ressenti » et par 
 conséquent de « sur mesure », les stagiaires souhaitant participer 
 à cet atelier sont invités à toujours se remettre en question quant
  à leur acquis et à accepter le fait qu’un bon massage ne peut êt
 re donné qu’à la condition d’être massé… \n\n  \n\n\nPour p
 lus d'information, aller sur https://epanews.fr/events/dpt-33-stage-d-
 eveil-a-la-reflexologie
DTSTART;TZID=Europe/Paris:20160122T093000
DTEND;TZID=Europe/Paris:20160122T180000
CATEGORIES:33
LOCATION:ZI BERSOL
WEBSITE:http://www.acorpsetharmonie.com
URL:http://www.acorpsetharmonie.com
CONTACT:0782337523
ORGANIZER;CN=AcorpsetHarmonie:https://epanews.fr/profile/AcorpsetHarmo
 nie
ATTACH;FMTTYPE="image/jpeg":http://storage.ning.com/topology/rest/1.0/
 file/get/1663515621?profile=original
ATTENDEE;ROLE=REQ-PARTICIPANT;PARTSTAT=ACCEPTED;RSVP=TRUE;CN=AcorpsetH
 armonie:https://epanews.fr/profile/AcorpsetHarmonie
END:VEVENT
END:VCALENDAR
