BEGIN:VCALENDAR
PRODID:NingEventWidget-v1
VERSION:2.0
METHOD:PUBLISH
BEGIN:VTIMEZONE
TZID:Europe/Paris
X-LIC-LOCATION:Europe/Paris
BEGIN:DAYLIGHT
TZOFFSETFROM:+0100
TZOFFSETTO:+0200
TZNAME:CEST
DTSTART:19700329T020000
RRULE:FREQ=YEARLY;BYMONTH=3;BYDAY=-1SU
END:DAYLIGHT
BEGIN:STANDARD
TZOFFSETFROM:+0200
TZOFFSETTO:+0100
TZNAME:CET
DTSTART:19701025T030000
RRULE:FREQ=YEARLY;BYMONTH=10;BYDAY=-1SU
END:STANDARD
END:VTIMEZONE
BEGIN:VEVENT
UID:2485226:Event:1349075
DTSTAMP:20260422T171807Z
SUMMARY:confÃ©rence Don Marcelino, marseille 23 mai 2013
DESCRIPTION:Don Marcelino : CONFÃ‰RENCE\n\nÂ \nVision dâ€™un AmÃ©rindi
 en sur lâ€™Europe: maladie, santÃ©, guÃ©rison\nÂ \n\n\n\n\n\nÂ www.don
 marcelino.fr\n\n\n\nInscriptionÂ : Ingrid YoussoufianÂ Â Â Â Â Â Â  tÃ
 ©lÂ : 04 91 78 28 28 ou par mail Ã \ningrid.yous@yahoo.fr\nRÃ©servez v
 otre confÃ©rence, car les places sont limitÃ©es\n\n\nPour plus d'infor
 mation, aller sur https://epanews.fr/events/don-marcelino-conference-m
 arseille-23-et-24-mai
DTSTART;TZID=Europe/Paris:20130523T190000
DTEND;TZID=Europe/Paris:20130523T220000
CATEGORIES:13
LOCATION:MARSEILLE
WEBSITE:
URL:
CONTACT:04 91 78 28 28
ORGANIZER:Ingrid Youssoufian Â« Les amis de Georges Â»
ATTACH;FMTTYPE="image/jpeg":http://storage.ning.com/topology/rest/1.0/
 file/get/1662831912?profile=original
ATTENDEE;ROLE=REQ-PARTICIPANT;PARTSTAT=ACCEPTED;RSVP=TRUE;CN="Bruno De
 leuze":https://epanews.fr/profile/BrunoDeleuze
ATTENDEE;ROLE=REQ-PARTICIPANT;PARTSTAT=TENTATIVE;RSVP=TRUE;CN=chloÃ©:h
 ttps://epanews.fr/profile/chloe
END:VEVENT
END:VCALENDAR
