BEGIN:VCALENDAR
PRODID:NingEventWidget-v1
VERSION:2.0
METHOD:PUBLISH
BEGIN:VTIMEZONE
TZID:Europe/Paris
X-LIC-LOCATION:Europe/Paris
BEGIN:DAYLIGHT
TZOFFSETFROM:+0100
TZOFFSETTO:+0200
TZNAME:CEST
DTSTART:19700329T020000
RRULE:FREQ=YEARLY;BYMONTH=3;BYDAY=-1SU
END:DAYLIGHT
BEGIN:STANDARD
TZOFFSETFROM:+0200
TZOFFSETTO:+0100
TZNAME:CET
DTSTART:19701025T030000
RRULE:FREQ=YEARLY;BYMONTH=10;BYDAY=-1SU
END:STANDARD
END:VTIMEZONE
BEGIN:VEVENT
UID:2485226:Event:1337439
DTSTAMP:20260420T023023Z
SUMMARY:Dojo Zen à Sanary(83)
DESCRIPTION:Nouveau à Sanary (83) Un Dojo Zen vient d'ouvrir ses port
 es. J'anime deux sessions de méditations de Pleine Conscience (Zazen)
  chaque mardi et le vendredi de 18h45 à 20h30.    La participation e
 st de 8€ pour une session. Rendez-vous à l'Ecole du Souffle au 404 
 chemin de la Morvenède 83110 Sanary s/mer. A bientôt\n\nPour plus d'
 information, aller sur https://epanews.fr/events/dojo-zen-sanary-83
DTSTART;TZID=Europe/Paris:20130507T184500
DTEND;TZID=Europe/Paris:20130507T203000
CATEGORIES:83
LOCATION:Sanary s/mer
WEBSITE:http://ecoledusouffle@free.fr
URL:http://ecoledusouffle@free.fr
CONTACT:0603477331
ORGANIZER;CN="Wagner Paul":https://epanews.fr/profile/WagnerPaul
ATTACH;FMTTYPE="image/jpeg":http://storage.ning.com/topology/rest/1.0/
 file/get/1662826270?profile=original
ATTENDEE;ROLE=REQ-PARTICIPANT;PARTSTAT=ACCEPTED;RSVP=TRUE;CN="Wagner P
 aul":https://epanews.fr/profile/WagnerPaul
END:VEVENT
END:VCALENDAR
