BEGIN:VCALENDAR
PRODID:NingEventWidget-v1
VERSION:2.0
METHOD:PUBLISH
BEGIN:VTIMEZONE
TZID:Europe/Paris
X-LIC-LOCATION:Europe/Paris
BEGIN:DAYLIGHT
TZOFFSETFROM:+0100
TZOFFSETTO:+0200
TZNAME:CEST
DTSTART:19700329T020000
RRULE:FREQ=YEARLY;BYMONTH=3;BYDAY=-1SU
END:DAYLIGHT
BEGIN:STANDARD
TZOFFSETFROM:+0200
TZOFFSETTO:+0100
TZNAME:CET
DTSTART:19701025T030000
RRULE:FREQ=YEARLY;BYMONTH=10;BYDAY=-1SU
END:STANDARD
END:VTIMEZONE
BEGIN:VEVENT
UID:2485226:Event:333604
DTSTAMP:20260422T091246Z
SUMMARY:Do-in / shintÃ´ Connaissance de Soi
DESCRIPTION:Samedi 11 juin 2011\nLe do-in est une pratique dâ€™auto-ma
 ssage chinoise ancestrale qui favorise une meilleure circulation de lâ
 €™Ã©nergie (du chi) dans le corps.\nLe shintÃ´ dÃ©signe la pratique an
 cestrale des moines guerriers japonais de respiration, dâ€™intÃ©rioris
 ation et dâ€™apprentissage de canalisation de son Ã©nergie.\nCes deux 
 pratiques nÃ©cessitent un fort travail d'ancrage dans le hara, lieu de
  calme et de paix, centre des Ã©motions, Â \"OcÃ©an de sagesse\".\nDes
  temps de respiration, d'intÃ©riorisationÂ et de partage seront propos
 Ã©s.\nOuverts Ã  tous, les stages de do-in / shintÃ´Â neÂ nÃ©cessitent
  aucun niveau prÃ©alable requis.\nHoraires : 14h-16h\nTarif : 20 â‚¬Â 
 \n\nPour plus d'information, aller sur https://epanews.fr/events/doin-
 shinto-connaissance-de
DTSTART;TZID=Europe/Paris:20110611T140000
DTEND;TZID=Europe/Paris:20110611T160000
CATEGORIES:31
LOCATION:Toulouse
WEBSITE:http://lesdansesdel-ame.over-blog.com
URL:http://lesdansesdel-ame.over-blog.com
CONTACT: 06  61 94 42 65 ( Association Oracs)
ORGANIZER;CN="Cauvel Marie-Pierre":https://epanews.fr/profile/CauvelMa
 riePierre
ATTACH;FMTTYPE="image/jpeg":http://storage.ning.com/topology/rest/1.0/
 file/get/1662423299?profile=original
ATTENDEE;ROLE=REQ-PARTICIPANT;PARTSTAT=ACCEPTED;RSVP=TRUE;CN="Cauvel M
 arie-Pierre":https://epanews.fr/profile/CauvelMariePierre
END:VEVENT
END:VCALENDAR
