BEGIN:VCALENDAR
PRODID:NingEventWidget-v1
VERSION:2.0
METHOD:PUBLISH
BEGIN:VTIMEZONE
TZID:Europe/Paris
X-LIC-LOCATION:Europe/Paris
BEGIN:DAYLIGHT
TZOFFSETFROM:+0100
TZOFFSETTO:+0200
TZNAME:CEST
DTSTART:19700329T020000
RRULE:FREQ=YEARLY;BYMONTH=3;BYDAY=-1SU
END:DAYLIGHT
BEGIN:STANDARD
TZOFFSETFROM:+0200
TZOFFSETTO:+0100
TZNAME:CET
DTSTART:19701025T030000
RRULE:FREQ=YEARLY;BYMONTH=10;BYDAY=-1SU
END:STANDARD
END:VTIMEZONE
BEGIN:VEVENT
UID:2485226:Event:2918336
DTSTAMP:20260422T091452Z
SUMMARY:Stage \"Ma Divine ComÃ©die Humaine\"
DESCRIPTION:De la ComÃ©dia Dellâ€™Arte Ã  la comÃ©dia de lâ€™Ã¢me\nDu 
 thÃ©Ã¢tre dâ€™improvisation Ã  lâ€™improvisation constante face aux dÃ
 ©fis de la vie\nDe la tragÃ©die antique Ã  la tragi-comÃ©die de la Â« 
 Matrice Â» qui nous englue...il nâ€™y a quâ€™un tout petit pasâ€¦â€¦â€
 ¦â€¦â€¦â€¦\nCelui de la conscience qui Sait que dans tous les cas de f
 igure NOUS JOUONS et nous sommes les protagonistes, les acteurs, les a
 uteurs, les accessoiristes, dâ€™une immense farce cosmique dans laquel
 le nous nous sommes trop longtemps oubliÃ©s, perdusâ€¦â€¦endormis.\nDa
 ns cet atelier nous jetons nos vieux costumes, nous nous rÃ©inventons,
  nous manifestons notre authenticitÃ©, notre vÃ©ritÃ©, nous accueillon
 s notre beautÃ© et nous nous offrons pleinement entiers et prÃ©sents a
 u monde appelant Ã  nous dâ€™autres joyeux lutins humains Ã  se joindr
 e au grand banquet pour sabler la champagne dans les coulisses du Gran
 d ThÃ©Ã¢tre de la CrÃ©ation\n5 jours pour rÃ©activer notre nature orig
 inelle consciente et joyeuse\n5 jours pour passer en revue, rire et se
  dÃ©tacher des rÃ´les de figurants\n5 jours pour rÃ©Ã©crire La piÃ¨ce 
 de nos rÃªves et crÃ©er notre propre rÃ©alitÃ©\n5 jours pour brÃ»ler l
 es marionnettes que nous avons crÃ©Ã©es ou cru Ãªtre\n5 jours pour com
 mencer ou continuer Ã  se sentir illimitÃ© dans notre capacitÃ© de crÃ
 ©ation de faÃ§on harmonieuse pour chacun et pour tous\n5 jours pour me
 ttre en place une aptitude Ã  improviser spontanÃ©ment sans stress fac
 e Ã  lâ€™inconnu grÃ¢ce Ã  des outils simples\n5 jours pour arrÃªter d
 e se prendre au Â«Â serre-yeuxÂ Â» et pour sâ€™aimer joyeusement\n5 jo
 urs pour RIRE comme jamaisâ€¦.\n\n\nProgramme non exhaustifÂ :\n\nVide
 r notre grenier, se dÃ©s-identifierÂ  et rÃ©actualiser\nRepÃ©rage de l
 â€™observateur\nChangement de regard\nActivation de notre clown Ã©veil
 leur\nLa joie, notre Ã©tat originel\nÂ«Â AlchimisationÂ Â» corps, ment
 al, Ã¢me, conscience\nNos expÃ©riences de vie, un vÃ©ritable engrais p
 our rebondir\nRadio, ici et maintenant ou fin de la rÃ©gression\nLe si
 lence un alliÃ© de choix\nJe joue qui je crois Ãªtre et je prends cons
 cience de Qui je Suis vraimentâ€¦..\nReprogrammation cellulaire joyeus
 e et dâ€™autres surprises\n\nParticipation: 470 euros hÃ©bergement et 
 repas en sus sur place\nÂ \n\n\nPour plus d'information, aller sur htt
 ps://epanews.fr/events/divine-comedie-humaine-th-tre-conscience
DTSTART;TZID=Europe/Paris:20180709T150000
DTEND;TZID=Europe/Paris:20180714T160000
CATEGORIES:tous
LOCATION:DrÃ´me
WEBSITE:http://artistedelajoie.com
URL:http://artistedelajoie.com
CONTACT:
ORGANIZER:Association Joie
ATTACH;FMTTYPE="image/jpeg":http://storage.ning.com/topology/rest/1.0/
 file/get/1663711287?profile=original
ATTENDEE;ROLE=REQ-PARTICIPANT;PARTSTAT=ACCEPTED;RSVP=TRUE;CN="Brigitte
  Ahoia":https://epanews.fr/profile/BrigitteAhoia
END:VEVENT
END:VCALENDAR
