BEGIN:VCALENDAR
PRODID:NingEventWidget-v1
VERSION:2.0
METHOD:PUBLISH
BEGIN:VTIMEZONE
TZID:Europe/Paris
X-LIC-LOCATION:Europe/Paris
BEGIN:DAYLIGHT
TZOFFSETFROM:+0100
TZOFFSETTO:+0200
TZNAME:CEST
DTSTART:19700329T020000
RRULE:FREQ=YEARLY;BYMONTH=3;BYDAY=-1SU
END:DAYLIGHT
BEGIN:STANDARD
TZOFFSETFROM:+0200
TZOFFSETTO:+0100
TZNAME:CET
DTSTART:19701025T030000
RRULE:FREQ=YEARLY;BYMONTH=10;BYDAY=-1SU
END:STANDARD
END:VTIMEZONE
BEGIN:VEVENT
UID:2485226:Event:979325
DTSTAMP:20260420T173703Z
SUMMARY:diner spirite
DESCRIPTION:Bonjour, Le samedi 20/10/12 Ã  20h au RESTO Jade Garden 7 
 rue de fontgrasse Ã  Blagnac, une soirÃ©e DÃ®ner-Spirite sera organisÃ
 ©e. Maya mÃ©dium effectuera des communications avec vos proches dispar
 ues (se munir d'une photo). La participation est de 15 â‚¬ pour un buf
 fet Ã  volontÃ©.Â  Confirmer votre prÃ©sence au 0562074893 ou par mail
  : centrelauviah@aol.com  Pour info Maya consulte Ã  PUJAUDRAN du 26 a
 u 30 octobre et du 23 au 27 novembreÂ  sur rdv. www.centrelauviah.com\
 n\nPour plus d'information, aller sur https://epanews.fr/events/diner-
 spirite
DTSTART;TZID=Europe/Paris:20121020T200000
DTEND;TZID=Europe/Paris:20121020T230000
CATEGORIES:31
LOCATION:Blagnac
WEBSITE:
URL:
CONTACT:0562074893
ORGANIZER;CN="Centre Lauviah":https://epanews.fr/profile/CentreLauviah
ATTACH;FMTTYPE="image/jpeg":http://storage.ning.com/topology/rest/1.0/
 file/get/1662682294?profile=original
ATTENDEE;ROLE=REQ-PARTICIPANT;PARTSTAT=ACCEPTED;RSVP=TRUE;CN="Centre L
 auviah":https://epanews.fr/profile/CentreLauviah
END:VEVENT
END:VCALENDAR
