BEGIN:VCALENDAR
PRODID:NingEventWidget-v1
VERSION:2.0
METHOD:PUBLISH
BEGIN:VTIMEZONE
TZID:Europe/Paris
X-LIC-LOCATION:Europe/Paris
BEGIN:DAYLIGHT
TZOFFSETFROM:+0100
TZOFFSETTO:+0200
TZNAME:CEST
DTSTART:19700329T020000
RRULE:FREQ=YEARLY;BYMONTH=3;BYDAY=-1SU
END:DAYLIGHT
BEGIN:STANDARD
TZOFFSETFROM:+0200
TZOFFSETTO:+0100
TZNAME:CET
DTSTART:19701025T030000
RRULE:FREQ=YEARLY;BYMONTH=10;BYDAY=-1SU
END:STANDARD
END:VTIMEZONE
BEGIN:VEVENT
UID:2485226:Event:264866
DTSTAMP:20260420T094823Z
SUMMARY:Dimanche Yoga
DESCRIPTION:Dimanche YOGA\nà Gémenos dans le Parc St Pons le 01 mai\
 n10h-midi: yoga avec Caroline Wirta, enseignante Yoga Iyengar (emporte
 r votre tapis de yoga)\nmidi-14h: pause.  pique-nique à emporter\n14
 h-16h: méditation avec Pierre Baboulin, magnétiseur (emporter une se
 rviette et un peu d’huile massage)\nInscription au 0671925107 (carol
 ine) ou 0685405469 (Pierre)\nParticipation financière libre\nRendez v
 ous à 09:55 devant les toilettes/ fin du parking\nAtelier créatif en
 fant avec Gabrielle, artiste\n\nPour plus d'information, aller sur htt
 ps://epanews.fr/events/dimanche-yoga
DTSTART;TZID=Europe/Paris:20110501T100000
DTEND;TZID=Europe/Paris:20110501T160000
CATEGORIES:13420
LOCATION:Marseille
WEBSITE:
URL:
CONTACT:06 71 92 51 07
ORGANIZER;CN="Caroline Wirta":https://epanews.fr/profile/CarolineWirta
ATTACH;FMTTYPE="image/jpeg":http://storage.ning.com/topology/rest/1.0/
 file/get/1662408294?profile=original
ATTENDEE;ROLE=REQ-PARTICIPANT;PARTSTAT=ACCEPTED;RSVP=TRUE;CN="Caroline
  Wirta":https://epanews.fr/profile/CarolineWirta
END:VEVENT
END:VCALENDAR
