BEGIN:VCALENDAR
PRODID:NingEventWidget-v1
VERSION:2.0
METHOD:PUBLISH
BEGIN:VTIMEZONE
TZID:Europe/Paris
X-LIC-LOCATION:Europe/Paris
BEGIN:DAYLIGHT
TZOFFSETFROM:+0100
TZOFFSETTO:+0200
TZNAME:CEST
DTSTART:19700329T020000
RRULE:FREQ=YEARLY;BYMONTH=3;BYDAY=-1SU
END:DAYLIGHT
BEGIN:STANDARD
TZOFFSETFROM:+0200
TZOFFSETTO:+0100
TZNAME:CET
DTSTART:19701025T030000
RRULE:FREQ=YEARLY;BYMONTH=10;BYDAY=-1SU
END:STANDARD
END:VTIMEZONE
BEGIN:VEVENT
UID:2485226:Event:1380791
DTSTAMP:20260423T061543Z
SUMMARY:Diaporama-conférence gratuite: les plantes à usage  médicin
 al et culinaire de nos régions.
DESCRIPTION:Exposé avec diaporama sur les  propriétés des plantes 
 médicinales et  culinaires de nos régions par Yves HUBERT, Praticie
 n de santé\nCette animation est organisée par l 'Ecole du Jardin Pla
 nétaire sous l'égide  des  Lacs de l'Essonne et de la Communauté 
 d'Agglomération.\nL'animation sera suivie d'un dîner collectif et co
 nvivial sous forme d'auberge espagnole (à vous  d'apporter votre pet
 ite contribution).\n \n\nPour plus d'information, aller sur https://e
 panews.fr/events/diaporama-conf-rence-gratuite-les-plantes-usage-m-dic
 inal-et
DTSTART;TZID=Europe/Paris:20130607T180000
DTEND;TZID=Europe/Paris:20130607T200000
CATEGORIES:91
LOCATION:Viry Chatillon (91) : salle du jardin planétaire (la Friche)
WEBSITE:https://maps.google.fr
URL:https://maps.google.fr
CONTACT:06 84 10 86 66
ORGANIZER:Le Mat
ATTACH;FMTTYPE="image/jpeg":
ATTENDEE;ROLE=REQ-PARTICIPANT;PARTSTAT=ACCEPTED;RSVP=TRUE;CN=capucinep
 aquerette:https://epanews.fr/profile/capucinepaquerette
END:VEVENT
END:VCALENDAR
