BEGIN:VCALENDAR
PRODID:NingEventWidget-v1
VERSION:2.0
METHOD:PUBLISH
BEGIN:VTIMEZONE
TZID:Europe/Paris
X-LIC-LOCATION:Europe/Paris
BEGIN:DAYLIGHT
TZOFFSETFROM:+0100
TZOFFSETTO:+0200
TZNAME:CEST
DTSTART:19700329T020000
RRULE:FREQ=YEARLY;BYMONTH=3;BYDAY=-1SU
END:DAYLIGHT
BEGIN:STANDARD
TZOFFSETFROM:+0200
TZOFFSETTO:+0100
TZNAME:CET
DTSTART:19701025T030000
RRULE:FREQ=YEARLY;BYMONTH=10;BYDAY=-1SU
END:STANDARD
END:VTIMEZONE
BEGIN:VEVENT
UID:2485226:Event:1344031
DTSTAMP:20260422T004511Z
SUMMARY:Devenir Guérisseur-Magnétiseur
DESCRIPTION:Stages Guérisseur-Magnétiseur - 2013\nTous les Week end 
 du mois de Juin de - 10h30/18h Retrouvez le pouvoir qui est en vous e
 t découvrez les techniques ancestrales des guérisseur et passeurs de
  feu\nJe vous proposerai également une journée initiation a l'EFT Ra
 pide, une méthode extraordinaire douce et incroyablement efficace de 
 libération émotionnelle et de décodage du stress\n \n\n\n\n\n\n\n\
 n \nComment utiliser une extraordinaire méthode de soin à distance 
 pour obtenir des résultats remarquables ?\n \nJe vous invite à part
 iciper à une journée d'initiation au Touché Thérapeutique. \n\nVe
 nez découvrir la magie du Toucher Thérapeutique et apprenez à utili
 ser la puissance de l'énergie qui est en vous. \n\nNous sommes tous 
 dotés de cette capacité à soigner, et je vous propose de vous recon
 necter à votre propre pouvoir naturel.\n \nAu cours de cette journé
 e vous apprendrez :\n\n- A ressentir et utiliser cette force énergét
 ique qui est en vous.\n- A travailler votre propre énergie, et la dir
 iger pour une action pratique. \n- Les techniques indispensables pour
  vous protéger et vous débarrasser des douleurs ressenties lors des 
 soins.\n- A quoi correspondent vos perceptions  (chaud, froid, picote
 ments, etc...).\n- Comment utiliser la méthode pour les soins à dist
 ance. \n- Vous découvrirez des exercices très simples pour affiner 
 et renforcer votre énergie. \n \nCette merveilleuse approche douce 
 et puissante à des effets visibles, durables et souvent spectaculaire
 s sur de nombreuses pathologies (douleurs chroniques, blessures, infla
 mmation, dérèglement hormonal, allergies, stress, dépression, insom
 nie, sciatique, tendinite, arthrose, maladies de peau, stress, dépres
 sion...)  \nElle est utilisée depuis la nuit des temps et reconnue p
 our son efficacité. \nVenez partager le bonheur et la joie de soulag
 er  les personnes qui vous entourent dans le respect et la délicates
 se. \nJe vous attends avec plaisir  06 64 29 13 97\n\nPour plus d'in
 formation, aller sur https://epanews.fr/events/devenir-gu-risseu-magn-
 tiseur
DTSTART;TZID=Europe/Paris:20130511T000000
DTEND;TZID=Europe/Paris:20130511T235900
CATEGORIES:75
LOCATION:Paris 20eme
WEBSITE:
URL:
CONTACT:06 64 29 13 97
ORGANIZER;CN=Maryse:https://epanews.fr/profile/Maryse909
ATTACH;FMTTYPE="image/jpeg":http://storage.ning.com/topology/rest/1.0/
 file/get/1662828672?profile=original
ATTENDEE;ROLE=REQ-PARTICIPANT;PARTSTAT=ACCEPTED;RSVP=TRUE;CN=Maryse:ht
 tps://epanews.fr/profile/Maryse909
END:VEVENT
END:VCALENDAR
