BEGIN:VCALENDAR
PRODID:NingEventWidget-v1
VERSION:2.0
METHOD:PUBLISH
BEGIN:VTIMEZONE
TZID:Europe/Paris
X-LIC-LOCATION:Europe/Paris
BEGIN:DAYLIGHT
TZOFFSETFROM:+0100
TZOFFSETTO:+0200
TZNAME:CEST
DTSTART:19700329T020000
RRULE:FREQ=YEARLY;BYMONTH=3;BYDAY=-1SU
END:DAYLIGHT
BEGIN:STANDARD
TZOFFSETFROM:+0200
TZOFFSETTO:+0100
TZNAME:CET
DTSTART:19701025T030000
RRULE:FREQ=YEARLY;BYMONTH=10;BYDAY=-1SU
END:STANDARD
END:VTIMEZONE
BEGIN:VEVENT
UID:2485226:Event:2798536
DTSTAMP:20260421T204806Z
SUMMARY:Devenez Animateur Agréé de Yoga du Rire à Paris
DESCRIPTION:Les 5 et 6 aout 2017, Fabrice Loizeau vous propose un atel
 ier formation inédit, accessible à tous, d'animateur de Yoga du Rire
 .\nA but professionnel ou personnel, une formation complète de Yoga d
 u rire pour devenir autonome, avec diplôme.Découvrez un concept nova
 teur pour faire le plein d'optimisme, de rire et de vitalité... Et re
 partez avec les meilleurs outils d'une méthode qui a déjà séduit d
 es milliers de personnes. (techniques ludiques d’évacuation des ten
 sion, de lâcher prise immédiat, pourquoi et comment ajouter plus de 
 rire et de positif dans sa vie...)\nAvec Fabrice Loizeau,Master profes
 seur international de yoga du rire et formateur officiel désigné par
  le médecin fondateur du yoga du rire pour former la nouvelle génér
 ation de professeur agréé (inédit en France).\nEN SAVOIR +, le prog
 ramme, les conditions, les garanties, la réservation... sont visibles
  sur le site de l'Institut Français du Yoga du Rire.\n\nPour plus d'i
 nformation, aller sur https://epanews.fr/events/devenez-animateur-agr-
 de-yoga-du-rire-paris-1
DTSTART;TZID=Europe/Paris:20170805T000000
DTEND;TZID=Europe/Paris:20170806T235900
CATEGORIES:75
LOCATION:Paris
WEBSITE:http://www.formation-yogadurire.fr
URL:http://www.formation-yogadurire.fr
CONTACT:0299002210
ORGANIZER;CN="Institut du Yoga du Rire":https://epanews.fr/profile/Ins
 titutduYogaduRire
ATTACH;FMTTYPE="image/jpeg":http://storage.ning.com/topology/rest/1.0/
 file/get/1663650238?profile=original
END:VEVENT
END:VCALENDAR
