BEGIN:VCALENDAR
PRODID:NingEventWidget-v1
VERSION:2.0
METHOD:PUBLISH
BEGIN:VTIMEZONE
TZID:Europe/Paris
X-LIC-LOCATION:Europe/Paris
BEGIN:DAYLIGHT
TZOFFSETFROM:+0100
TZOFFSETTO:+0200
TZNAME:CEST
DTSTART:19700329T020000
RRULE:FREQ=YEARLY;BYMONTH=3;BYDAY=-1SU
END:DAYLIGHT
BEGIN:STANDARD
TZOFFSETFROM:+0200
TZOFFSETTO:+0100
TZNAME:CET
DTSTART:19701025T030000
RRULE:FREQ=YEARLY;BYMONTH=10;BYDAY=-1SU
END:STANDARD
END:VTIMEZONE
BEGIN:VEVENT
UID:2485226:Event:2799120
DTSTAMP:20260420T124249Z
SUMMARY:Modification demandée
DESCRIPTION:Les 30 septembre et 1er octobre 2017, Fabrice Loizeau vous
  propose un atelier formation inédit, accessible à tous, d'animateur
  de Yoga du Rire.\nA but professionnel ou personnel, une formation com
 plète de Yoga du rire pour devenir autonome, avec diplôme. Découvre
 z un concept novateur pour faire le plein d'optimisme, de rire et de v
 italité... Et repartez avec les meilleurs outils d'une méthode qui a
  déjà séduit des milliers de personnes. (techniques ludiques d’é
 vacuation des tension, de lâcher prise immédiat, pourquoi et comment
  ajouter plus de rire et de positif dans sa vie...)\nAvec Fabrice Loiz
 eau, Master professeur international de yoga du rire et formateur offi
 ciel désigné par le médecin fondateur du yoga du rire pour former l
 a nouvelle génération de professeur agréé (inédit en France).\nEN
  SAVOIR +, le programme, les conditions, les garanties, la réservatio
 n... sont visibles sur le site de l'Institut Français du Yoga du Rire
 .\n\nPour plus d'information, aller sur https://epanews.fr/events/deve
 nez-animateur-agr-de-yoga-du-rire-lille
DTSTART;TZID=Europe/Paris:20170930T000000
DTEND;TZID=Europe/Paris:20171001T235900
CATEGORIES:59
LOCATION:Lille
WEBSITE:http://www.formation-yogadurire.fr
URL:http://www.formation-yogadurire.fr
CONTACT:0299002210
ORGANIZER;CN="Institut du Yoga du Rire":https://epanews.fr/profile/Ins
 titutduYogaduRire
ATTACH;FMTTYPE="image/jpeg":http://storage.ning.com/topology/rest/1.0/
 file/get/1663649181?profile=original
ATTENDEE;ROLE=REQ-PARTICIPANT;PARTSTAT=ACCEPTED;RSVP=TRUE;CN="Institut
  du Yoga du Rire":https://epanews.fr/profile/InstitutduYogaduRire
END:VEVENT
END:VCALENDAR
