BEGIN:VCALENDAR
PRODID:NingEventWidget-v1
VERSION:2.0
METHOD:PUBLISH
BEGIN:VTIMEZONE
TZID:Europe/Paris
X-LIC-LOCATION:Europe/Paris
BEGIN:DAYLIGHT
TZOFFSETFROM:+0100
TZOFFSETTO:+0200
TZNAME:CEST
DTSTART:19700329T020000
RRULE:FREQ=YEARLY;BYMONTH=3;BYDAY=-1SU
END:DAYLIGHT
BEGIN:STANDARD
TZOFFSETFROM:+0200
TZOFFSETTO:+0100
TZNAME:CET
DTSTART:19701025T030000
RRULE:FREQ=YEARLY;BYMONTH=10;BYDAY=-1SU
END:STANDARD
END:VTIMEZONE
BEGIN:VEVENT
UID:2485226:Event:219770
DTSTAMP:20260420T135632Z
SUMMARY:Développer l'abondance dans votre vie !
DESCRIPTION:LES WEEK-ENDS DU FIL D'ARIANE : 28 et 29 mai à SAINT ETIE
 NNE\n \nC'est une extraordinaire occasion de développer l’abondanc
 e dans votre vie : sur 2 journées consécutives, venez bénéficier 
 de l’énergie du groupe et de l’accompagnement alterné d’Isabel
 le et Hervé.\n \nLOI D’ATTRACTION\nApprenez qui vous êtes vraimen
 t et créez toute l’abondance que vous méritez. Imaginez et matéri
 alisez vos objectifs et laissez apparaître vos résistances …\nEFT\
 nTechnique de libération des émotions par acupression accompagnée d
 e la parole. Traitement et déblocages de vos peurs, résistances et c
 royances.\nCONSTELLATIONS FAMILIALES\nLes Constellations Familiales pe
 rmettent de mettre en scène vos questions au travers du paysage famil
 ial. Au travers de la conscience du groupe elles vous entrainent à la
  réconciliation et à la réintégration des exclus. Ainsi chacun est
  à sa juste place.\nPBA\nUtilisation d'un protocole spécifique au 'l
 acher prise' pour accompagner le travail de transformation des résist
 ances.\n \nCes approches indépendantes, rendues complémentaires par
  notre expérience et notre compétence, permettent à chacun de repre
 ndre la maîtrise de sa vie. Prise de conscience et transformation son
 t au cœur de ces journées ponctuées de différents ateliers. Partic
 ipant ou acteur, vous évoluerez vers la création et le développemen
 t de l’abondance dans votre vie !\n \nTARIFS\n180€ pour les 2 jo
 urs\n120€ si inscription avant le 30 avril\n \nPour toute info con
 tactez nous ou consultez notre site lefildariane.eu\n\nPour plus d'inf
 ormation, aller sur https://epanews.fr/events/developper-labondance-da
 ns-2
DTSTART;TZID=Europe/Paris:20110528T093000
DTEND;TZID=Europe/Paris:20110529T173000
CATEGORIES:42
LOCATION:SAINT ETIENNE
WEBSITE:http://www.lefildariane.eu
URL:http://www.lefildariane.eu
CONTACT:06 18 86 02 10 ou 02 38 560 560
ORGANIZER;CN="Hervé Robbes":https://epanews.fr/profile/HerveRobbes
ATTACH;FMTTYPE="image/jpeg":http://storage.ning.com/topology/rest/1.0/
 file/get/1662391462?profile=original
ATTENDEE;ROLE=REQ-PARTICIPANT;PARTSTAT=ACCEPTED;RSVP=TRUE;CN="Isabelle
   SEGUIN":https://epanews.fr/profile/IsabelleSEGUINROBBES
ATTENDEE;ROLE=REQ-PARTICIPANT;PARTSTAT=ACCEPTED;RSVP=TRUE;CN="Hervé R
 obbes":https://epanews.fr/profile/HerveRobbes
END:VEVENT
END:VCALENDAR
