BEGIN:VCALENDAR
PRODID:NingEventWidget-v1
VERSION:2.0
METHOD:PUBLISH
BEGIN:VTIMEZONE
TZID:Europe/Paris
X-LIC-LOCATION:Europe/Paris
BEGIN:DAYLIGHT
TZOFFSETFROM:+0100
TZOFFSETTO:+0200
TZNAME:CEST
DTSTART:19700329T020000
RRULE:FREQ=YEARLY;BYMONTH=3;BYDAY=-1SU
END:DAYLIGHT
BEGIN:STANDARD
TZOFFSETFROM:+0200
TZOFFSETTO:+0100
TZNAME:CET
DTSTART:19701025T030000
RRULE:FREQ=YEARLY;BYMONTH=10;BYDAY=-1SU
END:STANDARD
END:VTIMEZONE
BEGIN:VEVENT
UID:2485226:Event:171299
DTSTAMP:20260422T191140Z
SUMMARY:Deux jours en art-thÃ©rapie
DESCRIPTION:LA CRÃ‰ATIVITÃ‰ DANS LA RELATION\n\nComment utiliser lâ€™a
 rt-thÃ©rapie comme outil personnel dans sa vie professionnelle ou son 
 environnement relationnel ?\n\nDiffÃ©rents mÃ©dia vont mettre en lumiÃ
 ¨re la maniÃ¨re dont chacun se met en relation avec lui mÃªme, avec lâ
 €™ Â« Autre Â».\nNous profiterons ce ce temps de l'annÃ©e oÃ¹ la nuit 
 est la plus longue, pour faire un travail sur l'intÃ©riorisation.\n\n\
 no Se donner un temps et un espace pour visualiser, expÃ©rimenter .\n\
 no Donner de la voix Ã  ce qui peine a Ãªtre en-tendu.\n\no Trouver la
  distance juste dans sa relation Ã  lâ€™autre\n\no Rester soi mâ€™aime
 \n\no Devenir crÃ©ateur dâ€™une relation harmonieuse en soi, avec lâ€™
 autre.\n\n\nLes mÃ©dias utilisÃ©s seront principalement lâ€™Ã©criture,
  la voix, le thÃ©Ã¢tre.\n\nLes collations de la matinÃ©e de lâ€™aprÃ¨s
  midi ainsi que le repas de midi est inclus dans le prix de la journÃ©
 e.\n\nLa nuitÃ©e nâ€™est pas comprise, je tiens Ã  votre disposition, 
 sur demande un choix de lieux et de tarifs trÃ¨s raisonnables sur Sain
 t RÃ©my de Provence et aux alentours.\n\nDate de la session 4 : 18 et 
 19 fÃ©vrier 2011 CrÃ©er son aujourd'hui\n\nLes sessions peuvent Ãªtre 
 suivies mais sont indÃ©pendantes les unes des autres.\n\n\nPRIX :\n\nL
 e module : 190 euros\nl\nAcompte 50 euros (Cet acompte sera conservÃ© 
 par lâ€™association en cas dâ€™annulation 2 semaines avant le stage)\n
 \nRÃ¨glement Paypal : 170 euros pour le total\n45 euros pour lâ€™acomp
 te\n\nDemandeurs d'emploi, Ã©tudiants, me consulter.\nCâ€™est lâ€™envo
 i de la fiche dâ€™inscription accompagnÃ©e de lâ€™acompte qui finalise
  votre inscription.\n\nAttention cette session est limitÃ©e Ã  6 perso
 nnes.\n\nPour plus d'information, aller sur https://epanews.fr/events/
 deux-jours-en-arttherapie
DTSTART;TZID=Europe/Paris:20101217T000000
DTEND;TZID=Europe/Paris:20101218T235900
CATEGORIES:13, 84, 30, 26, 07, 38
LOCATION:Saint RÃ©my de Provence
WEBSITE:http://www.lavoixdesoi.com
URL:http://www.lavoixdesoi.com
CONTACT:06 99 21 59 25
ORGANIZER;CN="GeneviÃ¨ve CHARLES GARNODIER":https://epanews.fr/profile
 /GenevieveCHARLES
ATTACH;FMTTYPE="image/jpeg":http://storage.ning.com/topology/rest/1.0/
 file/get/1662367327?profile=original
ATTENDEE;ROLE=REQ-PARTICIPANT;PARTSTAT=ACCEPTED;RSVP=TRUE;CN="GeneviÃ¨
 ve CHARLES GARNODIER":https://epanews.fr/profile/GenevieveCHARLES
END:VEVENT
END:VCALENDAR
