BEGIN:VCALENDAR
PRODID:NingEventWidget-v1
VERSION:2.0
METHOD:PUBLISH
BEGIN:VTIMEZONE
TZID:Europe/Paris
X-LIC-LOCATION:Europe/Paris
BEGIN:DAYLIGHT
TZOFFSETFROM:+0100
TZOFFSETTO:+0200
TZNAME:CEST
DTSTART:19700329T020000
RRULE:FREQ=YEARLY;BYMONTH=3;BYDAY=-1SU
END:DAYLIGHT
BEGIN:STANDARD
TZOFFSETFROM:+0200
TZOFFSETTO:+0100
TZNAME:CET
DTSTART:19701025T030000
RRULE:FREQ=YEARLY;BYMONTH=10;BYDAY=-1SU
END:STANDARD
END:VTIMEZONE
BEGIN:VEVENT
UID:2485226:Event:56380
DTSTAMP:20260420T142820Z
SUMMARY:Deux confÃ©rences KhÃ©rialogie et tarot des Archanges
DESCRIPTION:Bonjour Ã  tous,\n\nJe vous propose, Ã  nouveau, des confÃ
 ©rences sur Marseille pour nous faire dÃ©couvrir 2 mÃ©thodes significa
 tives de la nouvelle Ã¨re, que sont la KHERIALOGIE et le TAROT DES ARC
 HANGES.\n\nCe sera le dimanche 16 mai Ã  lâ€™espace Ã©volutif , 23 Bd 
 BAILLE Ã  Marseille (mÃ©tro : Castellane)\n\nPrix exceptionnel, 5 euro
  la confÃ©rence, 8 euro les deux.\n\n\n14h00 : ConfÃ©rence sur la KhÃ©
 rialogie\n\nThÃ¨me abordÃ© : La KhÃ©rialogie est une mÃ©thode rÃ©volut
 ionnaire, trÃ¨s simple qui repose sur les phonÃ©tiques et aussi sur l'
 inconscient collectif. Elle permet l'Ã©tude de la personnalitÃ© avec u
 ne grande prÃ©cision. Cette mÃ©thode dÃ©montre les influences que nous
  subissons par les paroles, les priÃ¨res et mantras. Elle donne aussi 
 une belle thÃ©orie sur le fondement des langues avec l'origine des pho
 nÃ©tiques qui remonteraient aux hominidÃ©s. La KhÃ©rialogie dÃ©montre 
 l'Ã©galitÃ© des femmes avec les hommes, il est prouvÃ© que des femmes 
 aiment diriger et des hommes obÃ©ir. Cette mÃ©thode explique le compor
 tement des humains vis-Ã -vis des autres dans la vie de tous les jours
 , dans le couple et l'amitiÃ©. Il ne faut pas compter comme en numÃ©ro
 logie, mais tendre l'oreille.\nLes attributs de cette mÃ©thode sont no
 mbreux, tout ne peut pas Ãªtre dÃ©voilÃ© dans cette annonce\n(Ã©tude d
 es caractÃ¨res, profil professionnel, harmonie de couple, Ã©tude des s
 entiments, lien mÃ¨res enfants,\naide Ã  la crÃ©ation d'un nom secret 
 etc.).\n\n\n16h00 : ConfÃ©rence sur le tarot initiatique\n\nThÃ¨me abo
 rdÃ© : HÃ©ritage de la kabbale, les lames majeures correspondent aux A
 rchanges qui sont des Ã©nergies. La pratique des cartes n'est pas suff
 isante pour lire correctement le tarot. Il y a des rÃ¨gles Ã  respecte
 r. La mÃ©thode qui sera abordÃ©e a Ã©tÃ© transmise Ã  Patrick par son 
 guide, c'est un panachÃ© du tarot traditionnel (Marseille) et de la mÃ
 ©thode mystique qui est basÃ©e sur la kabbale. Patrick dÃ©compose les 
 lames et Ã©tudie les forces positives et nÃ©gatives ainsi que la valeu
 r Yin ou Yang. Une mÃ©thode lumineuse et essentielle pour les tarologu
 es et toutes personnes pratiquant le tarot. Les anges dirigent la part
 ie, laissez vous guider par Patrick dans cette initiation mystique.\nC
 ette mÃ©thode de tarot n'est pas traditionnelle, elle a Ã©tÃ© inspirÃ©
 e en moins de 2 heures, mÃ©rite d'Ãªtre connue, car elle est basÃ©e su
 r les Ã©nergies des Archanges, autres faÃ§ons de lire les cartes et rÃ
 ©sultats surprenants.\n\n\nPour en savoir plus sur la KhÃ©rialogie, vi
 sitez le site www.kheriamour.com si vous ne pouvez pas venir, vous ave
 z sur ce site la possibilitÃ© d'acheter des ouvrages ou des cours, pay
 ables par Paypal en CB ou par chÃ¨que.\n\nGardez le contact, nous prop
 oserons d'autres confÃ©rences et aussi des cours.\n\nPour plus d'infor
 mation, aller sur https://epanews.fr/events/deux-conferences-kherialog
 ie
DTSTART;TZID=Europe/Paris:20100516T140000
DTEND;TZID=Europe/Paris:20100516T190000
CATEGORIES:13
LOCATION:Espace Ã©volutif
WEBSITE:http://www.kheriamour.com
URL:http://www.kheriamour.com
CONTACT:06 50 31 24 72
ORGANIZER;CN="Patrick Bucchioni":https://epanews.fr/profile/Bucchioni
ATTACH;FMTTYPE="image/jpeg":
ATTENDEE;ROLE=REQ-PARTICIPANT;PARTSTAT=ACCEPTED;RSVP=TRUE;CN="Patrick 
 Bucchioni":https://epanews.fr/profile/Bucchioni
END:VEVENT
END:VCALENDAR
