BEGIN:VCALENDAR
PRODID:NingEventWidget-v1
VERSION:2.0
METHOD:PUBLISH
BEGIN:VTIMEZONE
TZID:Europe/Paris
X-LIC-LOCATION:Europe/Paris
BEGIN:DAYLIGHT
TZOFFSETFROM:+0100
TZOFFSETTO:+0200
TZNAME:CEST
DTSTART:19700329T020000
RRULE:FREQ=YEARLY;BYMONTH=3;BYDAY=-1SU
END:DAYLIGHT
BEGIN:STANDARD
TZOFFSETFROM:+0200
TZOFFSETTO:+0100
TZNAME:CET
DTSTART:19701025T030000
RRULE:FREQ=YEARLY;BYMONTH=10;BYDAY=-1SU
END:STANDARD
END:VTIMEZONE
BEGIN:VEVENT
UID:2485226:Event:878516
DTSTAMP:20260422T002417Z
SUMMARY:Dessins et configurations planétaires
DESCRIPTION:En astrologie humaniste et transpersonnelle, un certain no
 mbre d'informations nous est donné par une première approche globale
  du thème. Nous allons étudier la signification des dessins que l'on
  trouve dans un thème (grand trigone, grand carré, croix en T, cerf-
 volant...) et les configurations que forment les planètes entre elles
  (thèmes en coin, en \"splash\", en entonnoir...), à travers l'étud
 e de thèmes de personnalités ainsi que de ceux des participants. Il 
 reste des places disponibles.\n\nPour plus d'information, aller sur ht
 tps://epanews.fr/events/dessins-et-configurations-plan-taires
DTSTART;TZID=Europe/Paris:20120730T000000
DTEND;TZID=Europe/Paris:20120804T235900
CATEGORIES:24
LOCATION:Terre de Jor
WEBSITE:http://www.terredejor.fr
URL:http://www.terredejor.fr
CONTACT:+33 6 09 40 52 26
ORGANIZER:Samuel Djian
ATTACH;FMTTYPE="image/jpeg":http://storage.ning.com/topology/rest/1.0/
 file/get/1662633833?profile=original
ATTENDEE;ROLE=REQ-PARTICIPANT;PARTSTAT=ACCEPTED;RSVP=TRUE;CN=Ankheri:h
 ttps://epanews.fr/profile/NathalieCellura
END:VEVENT
END:VCALENDAR
