BEGIN:VCALENDAR
PRODID:NingEventWidget-v1
VERSION:2.0
METHOD:PUBLISH
BEGIN:VTIMEZONE
TZID:Europe/Paris
X-LIC-LOCATION:Europe/Paris
BEGIN:DAYLIGHT
TZOFFSETFROM:+0100
TZOFFSETTO:+0200
TZNAME:CEST
DTSTART:19700329T020000
RRULE:FREQ=YEARLY;BYMONTH=3;BYDAY=-1SU
END:DAYLIGHT
BEGIN:STANDARD
TZOFFSETFROM:+0200
TZOFFSETTO:+0100
TZNAME:CET
DTSTART:19701025T030000
RRULE:FREQ=YEARLY;BYMONTH=10;BYDAY=-1SU
END:STANDARD
END:VTIMEZONE
BEGIN:VEVENT
UID:2485226:Event:12651
DTSTAMP:20260420T051349Z
SUMMARY:DÃ©programmation biologique
DESCRIPTION:Ce stage s'adresse :\nÃ  ceux qui dÃ©sirent se libÃ©rer de
 s engrammes du vÃ©cu parental inconscients et des programmes transgÃ©n
 Ã©rationnels afin de pouvoir dÃ©cider librement de leurs choix et dâ€™
 amÃ©liorer leur bien-Ãªtre\n\nContenu :\nAperÃ§us thÃ©oriques et trava
 il approfondi individuel sur les programmes reÃ§us et mis en place :\n
 1Â°- par le vÃ©cu parental dans la pÃ©riode qui entoure la naissance :
  projet/sens\n2Â° -par le vÃ©cu des ancÃªtres : psychogÃ©nÃ©alogie\n3Â
 ° -par le vÃ©cu personnel : programmants, dÃ©clenchant, conflits de di
 agnostic et de pronostic\n\nPour plus d'information, aller sur https:/
 /epanews.fr/events/deprogrammation-biologique
DTSTART;TZID=Europe/Paris:20090921T000000
DTEND;TZID=Europe/Paris:20090926T235900
CATEGORIES:17
LOCATION:Stage
WEBSITE:
URL:
CONTACT:06 20 79 58 35
ORGANIZER;CN=essentiel:https://epanews.fr/profile/essentiel
ATTACH;FMTTYPE="image/jpeg":
ATTENDEE;ROLE=REQ-PARTICIPANT;PARTSTAT=ACCEPTED;RSVP=TRUE;CN=essentiel
 :https://epanews.fr/profile/essentiel
END:VEVENT
END:VCALENDAR
